BEGIN:VCALENDAR
VERSION:2.0
PRODID:-//Holy Wisdom Monastery - ECPv6.15.20//NONSGML v1.0//EN
CALSCALE:GREGORIAN
METHOD:PUBLISH
X-ORIGINAL-URL:https://holywisdommonastery.org
X-WR-CALDESC:Events for Holy Wisdom Monastery
REFRESH-INTERVAL;VALUE=DURATION:PT1H
X-Robots-Tag:noindex
X-PUBLISHED-TTL:PT1H
BEGIN:VTIMEZONE
TZID:America/Chicago
BEGIN:DAYLIGHT
TZOFFSETFROM:-0600
TZOFFSETTO:-0500
TZNAME:CDT
DTSTART:20250309T080000
END:DAYLIGHT
BEGIN:STANDARD
TZOFFSETFROM:-0500
TZOFFSETTO:-0600
TZNAME:CST
DTSTART:20251102T070000
END:STANDARD
BEGIN:DAYLIGHT
TZOFFSETFROM:-0600
TZOFFSETTO:-0500
TZNAME:CDT
DTSTART:20260308T080000
END:DAYLIGHT
BEGIN:STANDARD
TZOFFSETFROM:-0500
TZOFFSETTO:-0600
TZNAME:CST
DTSTART:20261101T070000
END:STANDARD
BEGIN:DAYLIGHT
TZOFFSETFROM:-0600
TZOFFSETTO:-0500
TZNAME:CDT
DTSTART:20270314T080000
END:DAYLIGHT
BEGIN:STANDARD
TZOFFSETFROM:-0500
TZOFFSETTO:-0600
TZNAME:CST
DTSTART:20271107T070000
END:STANDARD
END:VTIMEZONE
BEGIN:VEVENT
DTSTART;TZID=America/Chicago:20260529T190000
DTEND;TZID=America/Chicago:20260531T120000
DTSTAMP:20260424T205547
CREATED:20260219T204137Z
LAST-MODIFIED:20260407T155945Z
UID:10005244-1780081200-1780228800@holywisdommonastery.org
SUMMARY:Wonder & Hope: A Courage & Renewal® Experience
DESCRIPTION:Are you seeking ways to focus on positivity “these days”? \nRegister and join us for a spacious weekend at Holy Wisdom Monastery for Wonder & Hope: A Courage & Renewal® Experience\, May 29-31\, 2026. Within the abundance of Holy Wisdom\, our retreat sessions will focus on grounding ourselves within touchstones of presence\, welcome\, listening to our inner teacher\, turning to the wonder of how grace moves in our lives\, and carrying hope forward. \nParticipants comment that “the welcoming spirit\, the quiet\, the art and poetry\, the kindness and the experience of community” support their participation in a variety of experience during the weekend retreat. We trust that the spirit of renewal will move within you during your time in an active circle of participants\, time in silence\, and opportunities to be in Wisdom Prairie. Bring yourself just as you are — All Are Welcome! \nThis retreat is based on the Courage & Renewal approach\, Center for Courage & Renewal® founded by Parker J Palmer\, PhD \n  “Hope is holding a creative tension between what is and what could and should be\,\n    each day doing something to narrow the distance between the two.” -Parker J Palmer\, PhD \nSchedule\nFriday\, May 29 \n3:00 pm – Check-in for retreatants staying in the RGH \n6:30 pm – Registration \n7:00 pm – Session One \nSaturday\, May 30 \n9:00-10:15 am– Session Two \n10:15-10:30 am – Break \n10:30 am-12:00 pm – Session Three \n12:00-1:30 pm – Lunch and Free time \n1:30-3:00 pm – Session Four \n3:00-3:30 pm – Break \n3:30-5:00 pm – Session Five \n5:15 pm – Dinner \nSunday\, May 31 \n10:00 am-12:00 pm – Session Six \nLeaders – Mary Louise Peters\, MSE & Amy Christianson\, EdD\n \n  \nMary Louise Peters is a Courage & Renewal® Facilitator\, providing retreats and renewal experiences since 2010. She has worked as an educator and consultant at local\, state and national levels to improve early childhood and special education for children and families\, teaching practices and conditions for staff\, and state educational systems. \n  \n  \n \n  \nAmy Christianson recently completed the Courage & Renewal® Practicum Program. Amy has been a participant in a number of seasonal and Circle of Trust retreats. She has a long professional career in education within early childhood\, K-12 and higher education settings. Amy’s background includes educational leadership\, organizational change and working with diverse populations. \n\n\n  \n\nCost\n$250 commuter; $435 residential \nRegister\nPlease register by May 21\, 2026. The maximum number of participants is 18 and registration will close when full. \nCancellation policy – if you register but must cancel your registration\, you can receive a 75% refund up until May 21\, 2026. After that\, a 50% refund is available until the retreat starts.
URL:https://holywisdommonastery.org/event/wonder-and-hope-26/
LOCATION:Holy Wisdom Monastery\, 4200 County Road M\, Middleton\, WI\, 53562\, United States
CATEGORIES:Holy Wisdom Monastery,Prayer and Worship,Retreats,Seasonal Retreats,Spirituality Programs
ATTACH;FMTTYPE=image/jpeg:https://holywisdommonastery.org/wp-content/uploads/2026/02/Wonder-and-Hope-1600px.jpg
GEO:43.1211199;-89.4520998
X-APPLE-STRUCTURED-LOCATION;VALUE=URI;X-ADDRESS=Holy Wisdom Monastery 4200 County Road M Middleton WI 53562 United States;X-APPLE-RADIUS=500;X-TITLE=4200 County Road M:geo:-89.4520998,43.1211199
END:VEVENT
BEGIN:VEVENT
DTSTART;TZID=America/Chicago:20260531T103000
DTEND;TZID=America/Chicago:20260531T120000
DTSTAMP:20260424T205547
CREATED:20260306T161947Z
LAST-MODIFIED:20260403T152236Z
UID:10005405-1780223400-1780228800@holywisdommonastery.org
SUMMARY:Nature Photography for Kids
DESCRIPTION:Nature Photography For Kids Ages 6-12\nChildren ages 6-12 and their adults are invited to join Sandy Weber\, professional photographer\, to use photography to discover the beauty of nature and surprising interactions all around us. Participants will learn beginner photography skills such as framing\, light and shadow with a digital camera. Each child will print one of their photos. The program runs from 10:30 am-12:00 pm. We will start indoors with a short introduction\, then go outdoors to explore the land through the camera lens. \nSchedule\n\n10:30 am – Gather in the Boardroom for orientation to nature photography\n10:45 am – Go outside to take photos\n11:25 am – Meet in the Boardroom to print photos\, mount them\, decorate frames and write captions\n11:55 am – Group sharing and closing\n\nCost & Registration\nPlease register by May 25\, 2026. This event is free for attendees\, but good will donations to Holy Wisdom and the Friends of Wisdom Prairie are always encouraged and appreciated. \nRegistration is limited to 10 children ages 6 to 12 and their adults. We cannot accommodate walk-ins or small children at this event. \n \n 
URL:https://holywisdommonastery.org/event/nature-photography-for-kids/
LOCATION:Holy Wisdom Monastery\, 4200 County Road M\, Middleton\, WI\, 53562\, United States
CATEGORIES:Care for the Earth,Community of Communities,Environmental Education,Friends of Wisdom Prairie,Outings and Tours
ATTACH;FMTTYPE=image/jpeg:https://holywisdommonastery.org/wp-content/uploads/2026/03/IMG_4816-1600px.jpg
ORGANIZER;CN="Julie Melton":MAILTO:jmelton@uwalumni.com
GEO:43.1211199;-89.4520998
X-APPLE-STRUCTURED-LOCATION;VALUE=URI;X-ADDRESS=Holy Wisdom Monastery 4200 County Road M Middleton WI 53562 United States;X-APPLE-RADIUS=500;X-TITLE=4200 County Road M:geo:-89.4520998,43.1211199
END:VEVENT
BEGIN:VEVENT
DTSTART;TZID=America/Chicago:20260601T130000
DTEND;TZID=America/Chicago:20260601T143000
DTSTAMP:20260424T205547
CREATED:20251030T204313Z
LAST-MODIFIED:20260325T151728Z
UID:10005129-1780318800-1780324200@holywisdommonastery.org
SUMMARY:Sacred Thresholds
DESCRIPTION:Sacred Thresholds is a contemplative prayer gathering. \nWe are living through a unique chapter in American history when our most cherished values seem threatened\, indeed\, our whole way of life. Each of us\, in our own way\, is asking\, What can I do?\, and the answers\, so far\, seem woefully inadequate to the challenge. It is in that same spirit of humility that we are offering Sacred Thresholds as our answer to that question. Woefully inadequate\, yes\, small\, but genuine\, offered in a communal spirit\, coming together to make a circle\, to pray\, in old ways and in new ways\, to hold each other’s hearts and help one another to stay open. That is what Sacred Thresholds is all about. It’s a work in progress. Like all of us. \nPlease join us at 1:00 pm on the first Monday of the month in the Retreat and Guest House room 222 . \nUpcoming dates\n\nNov. 3\, 2025\nDec. 1\, 2025\nJan. 5\, 2026\nFeb. 5\, 2026\nMar. 2\, 2026\nApr. 6\, 2026\nMay 4\, 2026\nJun. 1\, 2026
URL:https://holywisdommonastery.org/event/sacred-thresholds/2026-06-01/
LOCATION:Holy Wisdom Monastery\, 4200 County Road M\, Middleton\, WI\, 53562\, United States
CATEGORIES:Community of Communities,Holy Wisdom Monastery
ATTACH;FMTTYPE=image/jpeg:https://holywisdommonastery.org/wp-content/uploads/2020/06/Grace-sunset-scaled.jpg
ORGANIZER;CN="Sandy Wojtal-Weber":MAILTO:sandyweber@charter.net
GEO:43.1211199;-89.4520998
X-APPLE-STRUCTURED-LOCATION;VALUE=URI;X-ADDRESS=Holy Wisdom Monastery 4200 County Road M Middleton WI 53562 United States;X-APPLE-RADIUS=500;X-TITLE=4200 County Road M:geo:-89.4520998,43.1211199
END:VEVENT
BEGIN:VEVENT
DTSTART;TZID=America/Chicago:20260603T083000
DTEND;TZID=America/Chicago:20260603T163000
DTSTAMP:20260424T205547
CREATED:20260226T213318Z
LAST-MODIFIED:20260226T213318Z
UID:10005404-1780475400-1780504200@holywisdommonastery.org
SUMMARY:Day of Rest & Reflection for Healthcare Professionals
DESCRIPTION:As a healthcare professional\, you give generously of yourself to care for the bodies\, minds and spirits of so many\, and we are offering A Day of Rest and Reflection to generously return that care to you! Join us on June 3rd from 8:30 am-4:30 pm to walk the restored prairies of Holy Wisdom Monastery\, engage in somatic and creative activities\, find supportive community with other healthcare workers and receive nurture for your own body\, mind and spirit. \nYou will be welcomed with a continental breakfast and served a warm and nourishing lunch. Participants may choose to extend their stay by individually booking a dinner and/or overnight at the Retreat and Guest Center separate from the programmed event and at an additional cost. Contact retreats@holywisdommonastery.org if interested. \nThis retreat is open to people who work in direct patient care such as nurses\, doctors\, CNAs\, LPNs\, radiologists\, etc. \nSchedule \n8:30-9:00 am – Arrive and Continental Breakfast\n9:00-10:15 am – Introductions and Reflection Circles\n10:15-10:30 am – Break\n10:30-11:30 am – Body Meditation and Journaling\n11:45 am – Midday Prayer (Optional)\nNoon – Lunch\n1:00-2:30 pm – Introduction to the Land and Meditative Prairie Walk\n2:45-3:30 pm – Creating Meditation Stones\n3:30-4:30 pm – Reflection Circles and Blessing of Hands \nFacilitators – Amy Alstad\, Rita Emmenegger\, Erin Trondson and Rachel Young Binter\n \nAmy Alstad is the director of land management and environmental education at Holy Wisdom\nMonastery. She has a PhD in prairie ecology from UW Madison\, more than a decade of professional experience in the field of restoration ecology and a deep-rooted family tradition of restoring and tending prairies that spans four generations. In her role at Holy Wisdom\, Amy works alongside staff and volunteers to tend the restored land and invite people into connection with it. She is excited to share her love of Wisdom Prairie – and her growing conviction in its power to heal – with participants in this day of rest. \n  \n \nErin Trondson has worked with nonprofits for over 25 years and is currently the executive director of Holy Wisdom Monastery. She is especially moved by the monastery’s mission of hospitality and believes that part of Holy Wisdom’s work is to care for the people who care for the people. Erin will speak briefly about how the restored and healed land\, the rhythms of the monastery\, the beauty of\nnature\, the warm and welcoming spaces and the nourishing food will all contribute to a restorative day for those who work so hard to care for others every day. We look forward to having you at Holy Wisdom for a day of rest and reflection. \n  \n \nRita Emmenegger is a registered nurse who worked at St. Mary’s Hospital in Madison\, Wisconsin\, for 35 years in the departments of pediatrics and obstetrics. She understands the challenges of choosing a career as a caregiver and not having the time to nourish one’s own body and spirit. Now retired\, Rita was the busy mother of four and foster mother of seven and sees the importance of taking care of oneself as a necessity in life. Born and raised in Chicago\, Rita and her husband of 48 years\, live in Middleton\, WI. When she is not with her grandchildren\, she enjoys baking\, gardening\, hiking\, regularly donating platelets at the American Red Cross and volunteering at Holy Wisdom Monastery. \n \nRachel Young Binter is an experienced retreat leader with a concern for caring for the whole person\, including our bodies\, minds and spirits\, our relationships with others and the natural world\, and our right to exist within systems of equity and justice. She is the director of the Center for Clergy Renewal at Holy Wisdom Monastery and is grateful to have the opportunity to extend renewal and healing to those who bring renewed life and healing to so many. \n  \n  \nCost\n$65/person \nRegister\nPlease register below by May 26\, 2026. \n \n  \n  \n  \n 
URL:https://holywisdommonastery.org/event/day-of-rest-reflection-26/
LOCATION:Holy Wisdom Monastery\, 4200 County Road M\, Middleton\, WI\, 53562\, United States
CATEGORIES:Retreats,Wellness
ATTACH;FMTTYPE=image/jpeg:https://holywisdommonastery.org/wp-content/uploads/2026/02/Day-of-Rest-and-Reflection-for-Healthcare-Professionals-1600px.jpg
GEO:43.1211199;-89.4520998
X-APPLE-STRUCTURED-LOCATION;VALUE=URI;X-ADDRESS=Holy Wisdom Monastery 4200 County Road M Middleton WI 53562 United States;X-APPLE-RADIUS=500;X-TITLE=4200 County Road M:geo:-89.4520998,43.1211199
END:VEVENT
BEGIN:VEVENT
DTSTART;TZID=America/Chicago:20260603T190000
DTEND;TZID=America/Chicago:20260603T200000
DTSTAMP:20260424T205547
CREATED:20260219T160034Z
LAST-MODIFIED:20260220T161241Z
UID:10005362-1780513200-1780516800@holywisdommonastery.org
SUMMARY:Centering Prayer Groups - 1st Wednesday
DESCRIPTION:Centering Prayer Groups \nAll are welcome to join our two centering prayer groups which meet on alternating Wednesdays. Both incorporate a short reading and time for silent prayer or meditation. \n\n1st and 3rd Wednesdays\n\n7:00-8:00 pm\nRetreat & Guest House Room 10\nIncludes a short walking meditation in between periods of seated meditation\nFor more information contact Barb Abbott\, 608-284-7424\n\n\n2nd and 4th Wednesdays \n\n2:30-3:30 pm\nMonastery Oratory –\nTwo\, 20-minute periods of seated meditation with a 5-minute break\nFor more information contact Carole Kretschman\, 608-577-3243\n\n\n\nWe feel the presence of the Holy One even more strongly than when we center by ourselves. … Our prayer has less outward distractions for that hour than if we center at home. … Having the group supports us in our prayer life.
URL:https://holywisdommonastery.org/event/centering-prayer-groups-1st-wednesday/2026-06-03/
LOCATION:Holy Wisdom Monastery\, 4200 County Road M\, Middleton\, WI\, 53562\, United States
CATEGORIES:Centering Prayer Groups,Community of Communities,Oblates,Prayer and Worship,Sunday Assembly
ATTACH;FMTTYPE=image/jpeg:https://holywisdommonastery.org/wp-content/uploads/2022/12/centering-prayer-groups.jpg
GEO:43.1211199;-89.4520998
X-APPLE-STRUCTURED-LOCATION;VALUE=URI;X-ADDRESS=Holy Wisdom Monastery 4200 County Road M Middleton WI 53562 United States;X-APPLE-RADIUS=500;X-TITLE=4200 County Road M:geo:-89.4520998,43.1211199
END:VEVENT
BEGIN:VEVENT
DTSTART;TZID=America/Chicago:20260606T100000
DTEND;TZID=America/Chicago:20260606T113000
DTSTAMP:20260424T205547
CREATED:20260410T185501Z
LAST-MODIFIED:20260410T190159Z
UID:10005410-1780740000-1780745400@holywisdommonastery.org
SUMMARY:Shinrin-Yoku: Walks for the Weary
DESCRIPTION:Join us for a relaxing walk on the prairie at Holy Wisdom Monastery.\nIt will be a slow-paced quiet walk guided by Valerie Vervoort\, a certified Shinrin-yoku guide. The intent of this 90-minute walk is renewal through using our senses of sight\, hearing\, touch and taste. Invitations planned by your guide are easy and subject to each person’s comfort level. Sharing and tea will be part of the experience. \nParticipants will need to dress appropriately for weather conditions and be able to walk a mile and a half on trails that are sometimes uneven and include gentle slopes. Walking sticks are encouraged. Walk starts and ends at the kiosk in the monastery building parking lot. \nProceeds from these walks go to support programs at Holy Wisdom Monastery. \n2026 Dates/Times\n\nJun. 6 – 10:00-11:30 am\nAug. 1 – 10:00-11:30 am\nOct. 3 – 10:00-11:30 am\n\nLeader – Valerie Vervoort\nValerie Vervoort grew up exploring the woods and Mississippi River on her family farm in Northern Minnesota. She earned a master’s degree in education and taught in daycares for many years where she was known for gardening and encouraging kids to explore the outdoors. After retirement she volunteered as the ‘Garden Grandma’ at Fox Prairie Elementary School’s gardens. In 2020\, she became an Oblate at Holy Wisdom Monastery\, volunteered for prairie workdays and as a trail monitor. In 2024 her interest in the land as a healer lead to getting certified as a Forest Therapy Guide in May of that year. She has since lead Forest Therapy walks for Oblates\, Sunday Assembly members and a visiting college choir. \n  \nCost\n$37/person (no lunch) \n$56/person (with lunch\, May 29 registration deadline) \nRegister\nPlease register by Jun. 5\, 2026. This offering is limited to 15 people and registration will close when full. There is no refund if you need to cancel your registration.
URL:https://holywisdommonastery.org/event/shinrin-yoku-jun-6-26/
LOCATION:Holy Wisdom Monastery\, 4200 County Road M\, Middleton\, WI\, 53562\, United States
CATEGORIES:Community of Communities,Spirituality Programs,Wellness
ATTACH;FMTTYPE=image/jpeg:https://holywisdommonastery.org/wp-content/uploads/2026/03/Shinrin-Yoku-Walks-for-the-Weary-1600px.jpg
ORGANIZER;CN="Signe Lee":MAILTO:slee@holywisdommonastery.org
GEO:43.1211199;-89.4520998
X-APPLE-STRUCTURED-LOCATION;VALUE=URI;X-ADDRESS=Holy Wisdom Monastery 4200 County Road M Middleton WI 53562 United States;X-APPLE-RADIUS=500;X-TITLE=4200 County Road M:geo:-89.4520998,43.1211199
END:VEVENT
END:VCALENDAR