BEGIN:VCALENDAR
VERSION:2.0
PRODID:-//Holy Wisdom Monastery - ECPv6.15.20//NONSGML v1.0//EN
CALSCALE:GREGORIAN
METHOD:PUBLISH
X-ORIGINAL-URL:https://holywisdommonastery.org
X-WR-CALDESC:Events for Holy Wisdom Monastery
REFRESH-INTERVAL;VALUE=DURATION:PT1H
X-Robots-Tag:noindex
X-PUBLISHED-TTL:PT1H
BEGIN:VTIMEZONE
TZID:America/Chicago
BEGIN:DAYLIGHT
TZOFFSETFROM:-0600
TZOFFSETTO:-0500
TZNAME:CDT
DTSTART:20250309T080000
END:DAYLIGHT
BEGIN:STANDARD
TZOFFSETFROM:-0500
TZOFFSETTO:-0600
TZNAME:CST
DTSTART:20251102T070000
END:STANDARD
BEGIN:DAYLIGHT
TZOFFSETFROM:-0600
TZOFFSETTO:-0500
TZNAME:CDT
DTSTART:20260308T080000
END:DAYLIGHT
BEGIN:STANDARD
TZOFFSETFROM:-0500
TZOFFSETTO:-0600
TZNAME:CST
DTSTART:20261101T070000
END:STANDARD
BEGIN:DAYLIGHT
TZOFFSETFROM:-0600
TZOFFSETTO:-0500
TZNAME:CDT
DTSTART:20270314T080000
END:DAYLIGHT
BEGIN:STANDARD
TZOFFSETFROM:-0500
TZOFFSETTO:-0600
TZNAME:CST
DTSTART:20271107T070000
END:STANDARD
END:VTIMEZONE
BEGIN:VEVENT
DTSTART;VALUE=DATE:20260313
DTEND;VALUE=DATE:20260512
DTSTAMP:20260424T221107
CREATED:20260319T203153Z
LAST-MODIFIED:20260319T203553Z
UID:10005414-1773360000-1778543999@holywisdommonastery.org
SUMMARY:Native Plant Sale
DESCRIPTION:Native Plant Sale & Fundraiser\nMake your garden a beautiful\, vibrant landscape while supporting birds\, bees\, butterflies\, and other native wildlife! Gardening with native plants is a wonderful way to decrease water and nutrient usage\, create environments with plants that bloom throughout the seasons\, and provide critical resources to winged\, crawling\, and hopping wildlife. \nThis spring\, when you order native plants through our special Native Plant Sale with Johnson’s Nursery out of Menomonee Falls\, you get native plants delivered to Middleton\, WI or the eastside of Madison on May 17\, AND 15% of the sale totals go to Holy Wisdom Monastery\, Southern Wisconsin Bird Alliance and SOS Save Our Songbirds. \n  \nLearn more & order
URL:https://holywisdommonastery.org/event/native-plant-sale-3/
LOCATION:Holy Wisdom Monastery\, 4200 County Road M\, Middleton\, WI\, 53562\, United States
CATEGORIES:Care for the Earth,Community of Communities,Friends of Wisdom Prairie
ATTACH;FMTTYPE=image/jpeg:https://holywisdommonastery.org/wp-content/uploads/2025/03/Native-Plant-Sale-Volunteer-Photo.jpg
ORGANIZER;CN="Amy Alstad":MAILTO:aalstad@holywisdommonastery.org
GEO:43.1211199;-89.4520998
X-APPLE-STRUCTURED-LOCATION;VALUE=URI;X-ADDRESS=Holy Wisdom Monastery 4200 County Road M Middleton WI 53562 United States;X-APPLE-RADIUS=500;X-TITLE=4200 County Road M:geo:-89.4520998,43.1211199
END:VEVENT
BEGIN:VEVENT
DTSTART;TZID=America/Chicago:20260504T130000
DTEND;TZID=America/Chicago:20260504T143000
DTSTAMP:20260424T221107
CREATED:20251030T204313Z
LAST-MODIFIED:20260325T151728Z
UID:10005128-1777899600-1777905000@holywisdommonastery.org
SUMMARY:Sacred Thresholds
DESCRIPTION:Sacred Thresholds is a contemplative prayer gathering. \nWe are living through a unique chapter in American history when our most cherished values seem threatened\, indeed\, our whole way of life. Each of us\, in our own way\, is asking\, What can I do?\, and the answers\, so far\, seem woefully inadequate to the challenge. It is in that same spirit of humility that we are offering Sacred Thresholds as our answer to that question. Woefully inadequate\, yes\, small\, but genuine\, offered in a communal spirit\, coming together to make a circle\, to pray\, in old ways and in new ways\, to hold each other’s hearts and help one another to stay open. That is what Sacred Thresholds is all about. It’s a work in progress. Like all of us. \nPlease join us at 1:00 pm on the first Monday of the month in the Retreat and Guest House room 222 . \nUpcoming dates\n\nNov. 3\, 2025\nDec. 1\, 2025\nJan. 5\, 2026\nFeb. 5\, 2026\nMar. 2\, 2026\nApr. 6\, 2026\nMay 4\, 2026\nJun. 1\, 2026
URL:https://holywisdommonastery.org/event/sacred-thresholds/2026-05-04/
LOCATION:Holy Wisdom Monastery\, 4200 County Road M\, Middleton\, WI\, 53562\, United States
CATEGORIES:Community of Communities,Holy Wisdom Monastery
ATTACH;FMTTYPE=image/jpeg:https://holywisdommonastery.org/wp-content/uploads/2020/06/Grace-sunset-scaled.jpg
ORGANIZER;CN="Sandy Wojtal-Weber":MAILTO:sandyweber@charter.net
GEO:43.1211199;-89.4520998
X-APPLE-STRUCTURED-LOCATION;VALUE=URI;X-ADDRESS=Holy Wisdom Monastery 4200 County Road M Middleton WI 53562 United States;X-APPLE-RADIUS=500;X-TITLE=4200 County Road M:geo:-89.4520998,43.1211199
END:VEVENT
BEGIN:VEVENT
DTSTART;TZID=America/Chicago:20260506T190000
DTEND;TZID=America/Chicago:20260506T200000
DTSTAMP:20260424T221107
CREATED:20260219T160034Z
LAST-MODIFIED:20260220T161241Z
UID:10005361-1778094000-1778097600@holywisdommonastery.org
SUMMARY:Centering Prayer Groups - 1st Wednesday
DESCRIPTION:Centering Prayer Groups \nAll are welcome to join our two centering prayer groups which meet on alternating Wednesdays. Both incorporate a short reading and time for silent prayer or meditation. \n\n1st and 3rd Wednesdays\n\n7:00-8:00 pm\nRetreat & Guest House Room 10\nIncludes a short walking meditation in between periods of seated meditation\nFor more information contact Barb Abbott\, 608-284-7424\n\n\n2nd and 4th Wednesdays \n\n2:30-3:30 pm\nMonastery Oratory –\nTwo\, 20-minute periods of seated meditation with a 5-minute break\nFor more information contact Carole Kretschman\, 608-577-3243\n\n\n\nWe feel the presence of the Holy One even more strongly than when we center by ourselves. … Our prayer has less outward distractions for that hour than if we center at home. … Having the group supports us in our prayer life.
URL:https://holywisdommonastery.org/event/centering-prayer-groups-1st-wednesday/2026-05-06/
LOCATION:Holy Wisdom Monastery\, 4200 County Road M\, Middleton\, WI\, 53562\, United States
CATEGORIES:Centering Prayer Groups,Community of Communities,Oblates,Prayer and Worship,Sunday Assembly
ATTACH;FMTTYPE=image/jpeg:https://holywisdommonastery.org/wp-content/uploads/2022/12/centering-prayer-groups.jpg
GEO:43.1211199;-89.4520998
X-APPLE-STRUCTURED-LOCATION;VALUE=URI;X-ADDRESS=Holy Wisdom Monastery 4200 County Road M Middleton WI 53562 United States;X-APPLE-RADIUS=500;X-TITLE=4200 County Road M:geo:-89.4520998,43.1211199
END:VEVENT
BEGIN:VEVENT
DTSTART;TZID=America/Chicago:20260509T063000
DTEND;TZID=America/Chicago:20260509T120000
DTSTAMP:20260424T221107
CREATED:20260225T202024Z
LAST-MODIFIED:20260324T174404Z
UID:10005403-1778308200-1778328000@holywisdommonastery.org
SUMMARY:Great Wisconsin Birdathon
DESCRIPTION:The Great Wisconsin Birdathon is Wisconsin’s largest fundraiser for bird conservation. Each year bird enthusiasts from across the state form teams with the goal of finding as many unique bird species as possible while raising important funds for bird conservation. Holy Wisdom Monastery is participating in this event for the sixth time this year! We hope you’ll support our team ‘Wrens of Wisdom Prairie’ in our efforts to find as many bird species as possible on our property on May 9th. \nThere are several ways to participate: \nJoin us for a birding tour or ‘sit’\nWe are offering four guided walking tours and one session of ‘sit spot birding’ which is accessible for those who don’t wish to walk. Group size for each session will be limited to 10 participants. Birders of all ages and experience levels are welcome. \nCome birding on your own\nWe invite you to come explore the monastery property Saturday\, May 9th on your own\, and keep track of the birds you see and hear. Submit your list of species to Amy Alstad aalstad@holywisdommonastery.org or 608-836-1631\, x123. \nSupport Friends of Wisdom Prairie by making a financial contribution\nAll of the dollars raised will directly support bird conservation. Half of the funds raised will stay at Holy Wisdom Monastery and be used to create and maintain excellent bird habitat here\, with the remaining funds going to the Natural Resources Foundation. \nDonation information from the Natural Resources Foundation coming soon. \nSchedule\n6:30 am – bird walk\n7:30 am – bird ‘sit’\n8:00 am – bird walk\n10:00 am – bird walk\n12:00 pm – bird walk \nRegistration \nPlease register by May 8\, 2026. \nInterest in birding but cannot attend this event? Reach out to Amy (aalstad@holywisdommonastery.org) to inquire about monthly birding outings at Holy Wisdom. \n \n  \n 
URL:https://holywisdommonastery.org/event/great-wi-birdathon-26/
LOCATION:Holy Wisdom Monastery\, 4200 County Road M\, Middleton\, WI\, 53562\, United States
CATEGORIES:Care for the Earth,Community of Communities,Environmental Education
ATTACH;FMTTYPE=image/jpeg:https://holywisdommonastery.org/wp-content/uploads/2026/03/Great-Wisconsin-Birdathon-1600px.jpg
ORGANIZER;CN="Amy Alstad":MAILTO:aalstad@holywisdommonastery.org
GEO:43.1211199;-89.4520998
X-APPLE-STRUCTURED-LOCATION;VALUE=URI;X-ADDRESS=Holy Wisdom Monastery 4200 County Road M Middleton WI 53562 United States;X-APPLE-RADIUS=500;X-TITLE=4200 County Road M:geo:-89.4520998,43.1211199
END:VEVENT
END:VCALENDAR