BEGIN:VCALENDAR
VERSION:2.0
PRODID:-//Holy Wisdom Monastery - ECPv6.15.20//NONSGML v1.0//EN
CALSCALE:GREGORIAN
METHOD:PUBLISH
X-ORIGINAL-URL:https://holywisdommonastery.org
X-WR-CALDESC:Events for Holy Wisdom Monastery
REFRESH-INTERVAL;VALUE=DURATION:PT1H
X-Robots-Tag:noindex
X-PUBLISHED-TTL:PT1H
BEGIN:VTIMEZONE
TZID:America/Chicago
BEGIN:DAYLIGHT
TZOFFSETFROM:-0600
TZOFFSETTO:-0500
TZNAME:CDT
DTSTART:20250309T080000
END:DAYLIGHT
BEGIN:STANDARD
TZOFFSETFROM:-0500
TZOFFSETTO:-0600
TZNAME:CST
DTSTART:20251102T070000
END:STANDARD
BEGIN:DAYLIGHT
TZOFFSETFROM:-0600
TZOFFSETTO:-0500
TZNAME:CDT
DTSTART:20260308T080000
END:DAYLIGHT
BEGIN:STANDARD
TZOFFSETFROM:-0500
TZOFFSETTO:-0600
TZNAME:CST
DTSTART:20261101T070000
END:STANDARD
BEGIN:DAYLIGHT
TZOFFSETFROM:-0600
TZOFFSETTO:-0500
TZNAME:CDT
DTSTART:20270314T080000
END:DAYLIGHT
BEGIN:STANDARD
TZOFFSETFROM:-0500
TZOFFSETTO:-0600
TZNAME:CST
DTSTART:20271107T070000
END:STANDARD
END:VTIMEZONE
BEGIN:VEVENT
DTSTART;VALUE=DATE:20260313
DTEND;VALUE=DATE:20260512
DTSTAMP:20260424T183701
CREATED:20260319T203153Z
LAST-MODIFIED:20260319T203553Z
UID:10005414-1773360000-1778543999@holywisdommonastery.org
SUMMARY:Native Plant Sale
DESCRIPTION:Native Plant Sale & Fundraiser\nMake your garden a beautiful\, vibrant landscape while supporting birds\, bees\, butterflies\, and other native wildlife! Gardening with native plants is a wonderful way to decrease water and nutrient usage\, create environments with plants that bloom throughout the seasons\, and provide critical resources to winged\, crawling\, and hopping wildlife. \nThis spring\, when you order native plants through our special Native Plant Sale with Johnson’s Nursery out of Menomonee Falls\, you get native plants delivered to Middleton\, WI or the eastside of Madison on May 17\, AND 15% of the sale totals go to Holy Wisdom Monastery\, Southern Wisconsin Bird Alliance and SOS Save Our Songbirds. \n  \nLearn more & order
URL:https://holywisdommonastery.org/event/native-plant-sale-3/
LOCATION:Holy Wisdom Monastery\, 4200 County Road M\, Middleton\, WI\, 53562\, United States
CATEGORIES:Care for the Earth,Community of Communities,Friends of Wisdom Prairie
ATTACH;FMTTYPE=image/jpeg:https://holywisdommonastery.org/wp-content/uploads/2025/03/Native-Plant-Sale-Volunteer-Photo.jpg
ORGANIZER;CN="Amy Alstad":MAILTO:aalstad@holywisdommonastery.org
GEO:43.1211199;-89.4520998
X-APPLE-STRUCTURED-LOCATION;VALUE=URI;X-ADDRESS=Holy Wisdom Monastery 4200 County Road M Middleton WI 53562 United States;X-APPLE-RADIUS=500;X-TITLE=4200 County Road M:geo:-89.4520998,43.1211199
END:VEVENT
BEGIN:VEVENT
DTSTART;TZID=America/Chicago:20260414T080000
DTEND;TZID=America/Chicago:20260415T120000
DTSTAMP:20260424T183701
CREATED:20260107T183335Z
LAST-MODIFIED:20260401T185523Z
UID:10005155-1776153600-1776254400@holywisdommonastery.org
SUMMARY:Spring Emergence: A Seasonal Retreat
DESCRIPTION:A faint gauze of spring green is appearing on the prairie’s winter browns\, welcoming you to look for your own signs of new growth. What is emerging can’t be hurried\, but calls for patient restraint and holding a space for quiet wonder. This spring retreat invites you sit with the first indications of a new season of life – on the prairie and in your own life and heart. It will hold space for your hushed anticipation and gentle tending. \nConversations about the season\, walks on the prairie\, naps\, art\, movement\, journaling\, great meals\, and welcoming accommodations will all be a part of what you can expect when you arrive. A renewed connection to nature and to yourself\, along with joy in the anticipation of new things emerging are what you can expect to take with you when you leave. \nSeasonal Retreats\nEach season this year\, we will offer a different seasonal retreat. They will open spaces where each different season can offer its unique wisdom to us in the changing seasons of our lives. Each retreat is a two-day\, one-night experience at Holy Wisdom with cozy accommodations\, delicious meals\, spacious time periods for solitude\, reading and rest and contemplative conversations with other retreatants. There will also be a variety of opportunities to explore the prairies and the season and discover their gifts for you.  \nUpcoming Retreats \n\nSummer Plentitude – July 14-15\, 2026 (Wed./Thu.)\n\n\nFall Fallowing – October 16-17\, 2026 (Fri./Sat.)\n\nSpring Emergence Date/Times\nTue.\, Apr. 14\, 8:00 am – Wed.\, Apr. 15\, 12:00 pm\, 2026 \nCost\n$260/person \nThe cost of the retreat includes program\, meals (Tuesday lunch\, dinner and Wednesday breakfast) and overnight room. \nRegister\nThe registration deadline for this retreat is April 2\, 2026\, or when the retreat fills. \nCancellation policy – if you register but must cancel your registration\, you can receive a 75% refund up until April 3rd. After that\, a 50% refund is available until the retreat starts. \nAfter you register\, if you would like to request a double room with another retreatant or if you have other questions about accommodations\, please contact us at retreats@holywisdommonastery.org. \n \n  \n 
URL:https://holywisdommonastery.org/event/spring-emergence-26/
LOCATION:Holy Wisdom Monastery\, 4200 County Road M\, Middleton\, WI\, 53562\, United States
CATEGORIES:Friends of Wisdom Prairie,Retreats,Seasonal Retreats
ATTACH;FMTTYPE=image/jpeg:https://holywisdommonastery.org/wp-content/uploads/2025/12/Spring-Emergence-Seasonal-Retreat-1600px.jpg
GEO:43.1211199;-89.4520998
X-APPLE-STRUCTURED-LOCATION;VALUE=URI;X-ADDRESS=Holy Wisdom Monastery 4200 County Road M Middleton WI 53562 United States;X-APPLE-RADIUS=500;X-TITLE=4200 County Road M:geo:-89.4520998,43.1211199
END:VEVENT
BEGIN:VEVENT
DTSTART;TZID=America/Chicago:20260415T190000
DTEND;TZID=America/Chicago:20260415T200000
DTSTAMP:20260424T183701
CREATED:20260220T153416Z
LAST-MODIFIED:20260220T161058Z
UID:10005382-1776279600-1776283200@holywisdommonastery.org
SUMMARY:Centering Prayer Groups - 3rd Wednesday
DESCRIPTION:Centering Prayer Groups \nAll are welcome to join our two centering prayer groups which meet on alternating Wednesdays. Both incorporate a short reading and time for silent prayer or meditation. \n\n1st and 3rd Wednesdays\n\n7:00-8:00 pm\nRetreat & Guest House Room 10\nIncludes a short walking meditation in between periods of seated meditation\nFor more information contact Barb Abbott\, 608-284-7424\n\n\n2nd and 4th Wednesdays \n\n2:30-3:30 pm\nMonastery Oratory –\nTwo\, 20-minute periods of seated meditation with a 5-minute break\nFor more information contact Carole Kretschman\, 608-577-3243\n\n\n\nWe feel the presence of the Holy One even more strongly than when we center by ourselves. … Our prayer has less outward distractions for that hour than if we center at home. … Having the group supports us in our prayer life.
URL:https://holywisdommonastery.org/event/centering-prayer-groups-3rd-wednesday/2026-04-15/
LOCATION:Holy Wisdom Monastery\, 4200 County Road M\, Middleton\, WI\, 53562\, United States
CATEGORIES:Centering Prayer Groups,Community of Communities,Oblates,Prayer and Worship,Sunday Assembly
ATTACH;FMTTYPE=image/jpeg:https://holywisdommonastery.org/wp-content/uploads/2022/12/centering-prayer-groups.jpg
GEO:43.1211199;-89.4520998
X-APPLE-STRUCTURED-LOCATION;VALUE=URI;X-ADDRESS=Holy Wisdom Monastery 4200 County Road M Middleton WI 53562 United States;X-APPLE-RADIUS=500;X-TITLE=4200 County Road M:geo:-89.4520998,43.1211199
END:VEVENT
BEGIN:VEVENT
DTSTART;TZID=America/Chicago:20260418T150000
DTEND;TZID=America/Chicago:20260418T180000
DTSTAMP:20260424T183701
CREATED:20260310T204104Z
LAST-MODIFIED:20260323T164039Z
UID:10005408-1776524400-1776535200@holywisdommonastery.org
SUMMARY:Family Gathering
DESCRIPTION:All families with children are invited to Family Gathering on Saturday\, April 18\, 3:00-6:00 pm. \nJoin us for a Family Gathering to experience the joy of anticipation in community. At this event\, school-age children will gather to learn and play together\, and childcare for the littlest ones is provided. Parents and caregivers will have some free-choice time to enjoy all the Monastery has to offer. The gathering will conclude with a shared meal. \nChildren ages 6-9 are invited to join Sarah Wilkin Gibart for prayer and creative work time. \nParents\, this is an opportunity to enjoy the monastery and catch a breath in this busy season! You may choose to join in the children’s program\, or take in the art exhibit\, relax in the library\, bring a project of your own\, or simply have time for coffee and conversation. \nRegistration cost includes a simple entree prepared by the culinary team using fresh\, seasonal offerings (families may also wish to bring a side dish or dessert to share). \nSchedule\n3:00 pm – Gather\n~3:30-5:15 pm – Programming/free time\n5:15 pm – Dinner\n6:00 pm – Adjourn \nLeader\nSarah Wilkin Gibart is a teacher of the Catechesis of the Good Shepherd who leads regular Children’s Prayer during Sunday Assembly worship. Nichole Rasmus (formerly Nichole Fromm)\, our Childcare and Support Specialist\, will provide childcare for the younger children. \nCost\n$25/family \nQuestions\nPlease contact Sarah: sjwilkin09@gmail.com or Nichole: nrasmus@holywisdommonastery.org with any questions. \nRegistration\nPlease register by April 8\, 2026.
URL:https://holywisdommonastery.org/event/family-gathering-apr-18-26/
LOCATION:Holy Wisdom Monastery\, 4200 County Road M\, Middleton\, WI\, 53562\, United States
CATEGORIES:Childcare Ministry,Children's Ministry,Holy Wisdom Monastery
ATTACH;FMTTYPE=image/jpeg:https://holywisdommonastery.org/wp-content/uploads/2025/10/Childrens-Ministry-Family-Gathering-IMG_1541-1600px.jpg
ORGANIZER;CN="Nichole Rasmus":MAILTO:nfromm@holywisdommonastery.org
GEO:43.1211199;-89.4520998
X-APPLE-STRUCTURED-LOCATION;VALUE=URI;X-ADDRESS=Holy Wisdom Monastery 4200 County Road M Middleton WI 53562 United States;X-APPLE-RADIUS=500;X-TITLE=4200 County Road M:geo:-89.4520998,43.1211199
END:VEVENT
END:VCALENDAR