BEGIN:VCALENDAR
VERSION:2.0
PRODID:-//Holy Wisdom Monastery - ECPv6.15.20//NONSGML v1.0//EN
CALSCALE:GREGORIAN
METHOD:PUBLISH
X-ORIGINAL-URL:https://holywisdommonastery.org
X-WR-CALDESC:Events for Holy Wisdom Monastery
REFRESH-INTERVAL;VALUE=DURATION:PT1H
X-Robots-Tag:noindex
X-PUBLISHED-TTL:PT1H
BEGIN:VTIMEZONE
TZID:America/Chicago
BEGIN:DAYLIGHT
TZOFFSETFROM:-0600
TZOFFSETTO:-0500
TZNAME:CDT
DTSTART:20250309T080000
END:DAYLIGHT
BEGIN:STANDARD
TZOFFSETFROM:-0500
TZOFFSETTO:-0600
TZNAME:CST
DTSTART:20251102T070000
END:STANDARD
BEGIN:DAYLIGHT
TZOFFSETFROM:-0600
TZOFFSETTO:-0500
TZNAME:CDT
DTSTART:20260308T080000
END:DAYLIGHT
BEGIN:STANDARD
TZOFFSETFROM:-0500
TZOFFSETTO:-0600
TZNAME:CST
DTSTART:20261101T070000
END:STANDARD
BEGIN:DAYLIGHT
TZOFFSETFROM:-0600
TZOFFSETTO:-0500
TZNAME:CDT
DTSTART:20270314T080000
END:DAYLIGHT
BEGIN:STANDARD
TZOFFSETFROM:-0500
TZOFFSETTO:-0600
TZNAME:CST
DTSTART:20271107T070000
END:STANDARD
END:VTIMEZONE
BEGIN:VEVENT
DTSTART;VALUE=DATE:20260313
DTEND;VALUE=DATE:20260512
DTSTAMP:20260424T195404
CREATED:20260319T203153Z
LAST-MODIFIED:20260319T203553Z
UID:10005414-1773360000-1778543999@holywisdommonastery.org
SUMMARY:Native Plant Sale
DESCRIPTION:Native Plant Sale & Fundraiser\nMake your garden a beautiful\, vibrant landscape while supporting birds\, bees\, butterflies\, and other native wildlife! Gardening with native plants is a wonderful way to decrease water and nutrient usage\, create environments with plants that bloom throughout the seasons\, and provide critical resources to winged\, crawling\, and hopping wildlife. \nThis spring\, when you order native plants through our special Native Plant Sale with Johnson’s Nursery out of Menomonee Falls\, you get native plants delivered to Middleton\, WI or the eastside of Madison on May 17\, AND 15% of the sale totals go to Holy Wisdom Monastery\, Southern Wisconsin Bird Alliance and SOS Save Our Songbirds. \n  \nLearn more & order
URL:https://holywisdommonastery.org/event/native-plant-sale-3/
LOCATION:Holy Wisdom Monastery\, 4200 County Road M\, Middleton\, WI\, 53562\, United States
CATEGORIES:Care for the Earth,Community of Communities,Friends of Wisdom Prairie
ATTACH;FMTTYPE=image/jpeg:https://holywisdommonastery.org/wp-content/uploads/2025/03/Native-Plant-Sale-Volunteer-Photo.jpg
ORGANIZER;CN="Amy Alstad":MAILTO:aalstad@holywisdommonastery.org
GEO:43.1211199;-89.4520998
X-APPLE-STRUCTURED-LOCATION;VALUE=URI;X-ADDRESS=Holy Wisdom Monastery 4200 County Road M Middleton WI 53562 United States;X-APPLE-RADIUS=500;X-TITLE=4200 County Road M:geo:-89.4520998,43.1211199
END:VEVENT
BEGIN:VEVENT
DTSTART;TZID=America/Chicago:20260401T190000
DTEND;TZID=America/Chicago:20260401T200000
DTSTAMP:20260424T195404
CREATED:20260219T160034Z
LAST-MODIFIED:20260220T161241Z
UID:10005360-1775070000-1775073600@holywisdommonastery.org
SUMMARY:Centering Prayer Groups - 1st Wednesday
DESCRIPTION:Centering Prayer Groups \nAll are welcome to join our two centering prayer groups which meet on alternating Wednesdays. Both incorporate a short reading and time for silent prayer or meditation. \n\n1st and 3rd Wednesdays\n\n7:00-8:00 pm\nRetreat & Guest House Room 10\nIncludes a short walking meditation in between periods of seated meditation\nFor more information contact Barb Abbott\, 608-284-7424\n\n\n2nd and 4th Wednesdays \n\n2:30-3:30 pm\nMonastery Oratory –\nTwo\, 20-minute periods of seated meditation with a 5-minute break\nFor more information contact Carole Kretschman\, 608-577-3243\n\n\n\nWe feel the presence of the Holy One even more strongly than when we center by ourselves. … Our prayer has less outward distractions for that hour than if we center at home. … Having the group supports us in our prayer life.
URL:https://holywisdommonastery.org/event/centering-prayer-groups-1st-wednesday/2026-04-01/
LOCATION:Holy Wisdom Monastery\, 4200 County Road M\, Middleton\, WI\, 53562\, United States
CATEGORIES:Centering Prayer Groups,Community of Communities,Oblates,Prayer and Worship,Sunday Assembly
ATTACH;FMTTYPE=image/jpeg:https://holywisdommonastery.org/wp-content/uploads/2022/12/centering-prayer-groups.jpg
GEO:43.1211199;-89.4520998
X-APPLE-STRUCTURED-LOCATION;VALUE=URI;X-ADDRESS=Holy Wisdom Monastery 4200 County Road M Middleton WI 53562 United States;X-APPLE-RADIUS=500;X-TITLE=4200 County Road M:geo:-89.4520998,43.1211199
END:VEVENT
BEGIN:VEVENT
DTSTART;TZID=America/Chicago:20260402T160000
DTEND;TZID=America/Chicago:20260405T113000
DTSTAMP:20260424T195404
CREATED:20251211T145527Z
LAST-MODIFIED:20260311T211004Z
UID:10005141-1775145600-1775388600@holywisdommonastery.org
SUMMARY:Holy Week Silent Retreat
DESCRIPTION:Anyone who would like to experience a deep and sustained silence in the quiet companionship of others is invited to the Holy Week Silent Retreat. For some\, this retreat will be an opportunity to contemplate and participate in – with greater intention – the texts\, liturgies and prayers of Holy Week. For all\, it is an invitation to live the rhythms of monastic life in an extended retreat experience. Optional contemplative engagements (e.g. journal prompts\, walking meditations and opportunities for artistic expression) will add depth to the experience\, as will opportunities for lectio divina and shared reflections on the meaning and mystery of these days. \nRetreat Schedule\nThursday\, April 2 \n\n\n\n4:00 pm\nOrientation\nRetreat & Guest House (RGH) 110\n\n\n4:30 pm\nBrief introduction to the weekend and to each other\nRGH 110\n\n\n5:00 pm\nDinner and continued orientation\nMembers of Sunday Assembly and other guests at tonight’s liturgy will be sharing a meal in the Monastery Guest Dining Room. We will go through the serving line and eat in the smaller Community Dining Room. We will meet the sisters\, complete the orientation and then have some time to gather – if you wish to do so – with the other guests.\nMonastery Community Dining Room\n\n\n6:00 pm\nHoly Thursday Liturgy\nAfter this liturgy\, we enter into silence until Sat. dinner\nMonastery Assembly Room\n\n\n8:30-9:30 pm\nCompanioned silence\nRGH 222\n\n\n\n  \nFriday\, April 3 \n\n\n\n\nBreakfast on your own\nRGH 108\n\n\n7:35 am\nCentering prayer (optional)\nMonastery Oratory\n\n\n8:00 am\nMorning prayer (optional)\nMonastery Oratory\n\n\n10:00 am\nLectio divina and contemplative dialogue to prepare for Good Friday liturgy\nRGH 110\n\n\n11:45 am\nMidday prayer (optional)\nMonastery Oratory\n\n\nNoon\nLunch (in silence)\nMonastery Guest Dining Room\n\n\n3:00 pm\nGood Friday liturgy\nMonastery Assembly Room\n\n\n5:00 pm\nDinner (in silence)\nMonastery Guest Dining Room\n\n\n7:30-9:30 pm\nCompanioned silence\nRGH 222\n\n\n\n  \nSaturday\, April 4 \n\n\n\n\nBreakfast on your own\nRGH 108\n\n\n7:35 am\nCentering prayer (optional)\nMonastery Oratory\n\n\n8:00 am\nMorning prayer (optional)\nMonastery Oratory\n\n\n10:00 am\nLectio divina and contemplative dialogue to prepare for Easter Vigil liturgy\nRGH 110\n\n\n11:45 am\nMidday prayer (optional)\nMonastery Oratory\n\n\nNoon\nLunch (in silence)\nMonastery Guest Dining Room\n\n\nAfternoon\nAfternoon spent in silence\nRGH 110 for companioned silence\n\n\n5:00 pm\nDinner (we break the silence)\nMonastery Guest Dining Room\n\n\n7:30 pm\nEaster Vigil\nMonastery Assembly Room\n\n\nAfter Vigil\nRefreshments\nMonastery Guest Dining Room\n\n\n\nMeet for companioned conversation about the retreat\, and a closing ritual for those departing early\nRGH 110\n\n\n\n  \nSunday\, April 5 \n\n\n\n\nBreakfast on your own\nRGH 108\n\n\n8:00 am\nMorning prayer (optional)\nMonastery Oratory\n\n\n9:00 am\nEaster Sunday Eucharist\nMonastery Assembly Room\n\n\nImmediately following Eucharist\nA final gathering from which we take leave from one another\nCommunity Dining Room\n\n\n11:30 am\nDeparture\n\n\n\n\n  \nFacilitator – Pam Shellberg\nPam is the director of spiritual nourishment at Holy Wisdom Monastery. As a scripture scholar and educator\, she is eager invite people into a deeper appreciation of the texts that shape the Holy Week liturgies. As someone with a contemplative spirit\, she is eager to co-create with retreatants a rich and meaningful experience of silence. \nCost\n$360/person\, includes silent retreat\, overnights on Thursday\, Friday and Saturday; dinners on Thursday\, Friday and Saturday; lunches on Friday and Saturday; and breakfasts on Friday\, Saturday and Sunday. \nRegistration\nPlease register by March 25\, 2026. \nThere is a 75% refund for cancellations before the March 25 registration deadline\, and a 50% refund for cancellations from March 25 until the start of the retreat on April 2. \n  \n \n 
URL:https://holywisdommonastery.org/event/holy-week-silent-retreat-26/
LOCATION:Holy Wisdom Monastery\, 4200 County Road M\, Middleton\, WI\, 53562\, United States
CATEGORIES:Community of Communities,Holy Week & Easter,Prayer and Worship,Retreats,Spirituality Programs,Sunday Assembly
ATTACH;FMTTYPE=image/jpeg:https://holywisdommonastery.org/wp-content/uploads/2025/02/Holy-Week_1600.jpg
ORGANIZER;CN="Pam Shellberg":MAILTO:pshellberg@holywisdommonastery.org
GEO:43.1211199;-89.4520998
X-APPLE-STRUCTURED-LOCATION;VALUE=URI;X-ADDRESS=Holy Wisdom Monastery 4200 County Road M Middleton WI 53562 United States;X-APPLE-RADIUS=500;X-TITLE=4200 County Road M:geo:-89.4520998,43.1211199
END:VEVENT
END:VCALENDAR