BEGIN:VCALENDAR
VERSION:2.0
PRODID:-//Holy Wisdom Monastery - ECPv6.15.20//NONSGML v1.0//EN
CALSCALE:GREGORIAN
METHOD:PUBLISH
X-WR-CALNAME:Holy Wisdom Monastery
X-ORIGINAL-URL:https://holywisdommonastery.org
X-WR-CALDESC:Events for Holy Wisdom Monastery
REFRESH-INTERVAL;VALUE=DURATION:PT1H
X-Robots-Tag:noindex
X-PUBLISHED-TTL:PT1H
BEGIN:VTIMEZONE
TZID:America/Chicago
BEGIN:DAYLIGHT
TZOFFSETFROM:-0600
TZOFFSETTO:-0500
TZNAME:CDT
DTSTART:20250309T080000
END:DAYLIGHT
BEGIN:STANDARD
TZOFFSETFROM:-0500
TZOFFSETTO:-0600
TZNAME:CST
DTSTART:20251102T070000
END:STANDARD
BEGIN:DAYLIGHT
TZOFFSETFROM:-0600
TZOFFSETTO:-0500
TZNAME:CDT
DTSTART:20260308T080000
END:DAYLIGHT
BEGIN:STANDARD
TZOFFSETFROM:-0500
TZOFFSETTO:-0600
TZNAME:CST
DTSTART:20261101T070000
END:STANDARD
BEGIN:DAYLIGHT
TZOFFSETFROM:-0600
TZOFFSETTO:-0500
TZNAME:CDT
DTSTART:20270314T080000
END:DAYLIGHT
BEGIN:STANDARD
TZOFFSETFROM:-0500
TZOFFSETTO:-0600
TZNAME:CST
DTSTART:20271107T070000
END:STANDARD
END:VTIMEZONE
BEGIN:VEVENT
DTSTART;VALUE=DATE:20260313
DTEND;VALUE=DATE:20260512
DTSTAMP:20260424T220929
CREATED:20260319T203153Z
LAST-MODIFIED:20260319T203553Z
UID:10005414-1773360000-1778543999@holywisdommonastery.org
SUMMARY:Native Plant Sale
DESCRIPTION:Native Plant Sale & Fundraiser\nMake your garden a beautiful\, vibrant landscape while supporting birds\, bees\, butterflies\, and other native wildlife! Gardening with native plants is a wonderful way to decrease water and nutrient usage\, create environments with plants that bloom throughout the seasons\, and provide critical resources to winged\, crawling\, and hopping wildlife. \nThis spring\, when you order native plants through our special Native Plant Sale with Johnson’s Nursery out of Menomonee Falls\, you get native plants delivered to Middleton\, WI or the eastside of Madison on May 17\, AND 15% of the sale totals go to Holy Wisdom Monastery\, Southern Wisconsin Bird Alliance and SOS Save Our Songbirds. \n  \nLearn more & order
URL:https://holywisdommonastery.org/event/native-plant-sale-3/
LOCATION:Holy Wisdom Monastery\, 4200 County Road M\, Middleton\, WI\, 53562\, United States
CATEGORIES:Care for the Earth,Community of Communities,Friends of Wisdom Prairie
ATTACH;FMTTYPE=image/jpeg:https://holywisdommonastery.org/wp-content/uploads/2025/03/Native-Plant-Sale-Volunteer-Photo.jpg
ORGANIZER;CN="Amy Alstad":MAILTO:aalstad@holywisdommonastery.org
GEO:43.1211199;-89.4520998
X-APPLE-STRUCTURED-LOCATION;VALUE=URI;X-ADDRESS=Holy Wisdom Monastery 4200 County Road M Middleton WI 53562 United States;X-APPLE-RADIUS=500;X-TITLE=4200 County Road M:geo:-89.4520998,43.1211199
END:VEVENT
BEGIN:VEVENT
DTSTART;TZID=America/Chicago:20260318T190000
DTEND;TZID=America/Chicago:20260318T200000
DTSTAMP:20260424T220929
CREATED:20260220T153416Z
LAST-MODIFIED:20260220T161058Z
UID:10005381-1773860400-1773864000@holywisdommonastery.org
SUMMARY:Centering Prayer Groups - 3rd Wednesday
DESCRIPTION:Centering Prayer Groups \nAll are welcome to join our two centering prayer groups which meet on alternating Wednesdays. Both incorporate a short reading and time for silent prayer or meditation. \n\n1st and 3rd Wednesdays\n\n7:00-8:00 pm\nRetreat & Guest House Room 10\nIncludes a short walking meditation in between periods of seated meditation\nFor more information contact Barb Abbott\, 608-284-7424\n\n\n2nd and 4th Wednesdays \n\n2:30-3:30 pm\nMonastery Oratory –\nTwo\, 20-minute periods of seated meditation with a 5-minute break\nFor more information contact Carole Kretschman\, 608-577-3243\n\n\n\nWe feel the presence of the Holy One even more strongly than when we center by ourselves. … Our prayer has less outward distractions for that hour than if we center at home. … Having the group supports us in our prayer life.
URL:https://holywisdommonastery.org/event/centering-prayer-groups-3rd-wednesday/2026-03-18/
LOCATION:Holy Wisdom Monastery\, 4200 County Road M\, Middleton\, WI\, 53562\, United States
CATEGORIES:Centering Prayer Groups,Community of Communities,Oblates,Prayer and Worship,Sunday Assembly
ATTACH;FMTTYPE=image/jpeg:https://holywisdommonastery.org/wp-content/uploads/2022/12/centering-prayer-groups.jpg
GEO:43.1211199;-89.4520998
X-APPLE-STRUCTURED-LOCATION;VALUE=URI;X-ADDRESS=Holy Wisdom Monastery 4200 County Road M Middleton WI 53562 United States;X-APPLE-RADIUS=500;X-TITLE=4200 County Road M:geo:-89.4520998,43.1211199
END:VEVENT
BEGIN:VEVENT
DTSTART;TZID=America/Chicago:20260320T110000
DTEND;TZID=America/Chicago:20260320T130000
DTSTAMP:20260424T220929
CREATED:20260130T191537Z
LAST-MODIFIED:20260311T202217Z
UID:10005226-1774004400-1774011600@holywisdommonastery.org
SUMMARY:Lenten Taizé Prayer & Soup Lunch
DESCRIPTION:Prayer in the spirit of the Taizé community is a meditative form of common prayer. Gathered in the presence of Christ\, we sing uncomplicated\, repetitive songs\, allowing the mystery of God to become tangible through the beauty of simplicity and invoking the Holy Spirit to enter our prayer. \n  \nTaizé Prayer will replace midday prayer on March 20 in the assembly room. Please join us following prayer for lunch in the dining room. \nSchedule\n11:00 am – Taizé will begin \n12:00 pm – Lunch \nCost and Registration\nThere is no cost to attend the Taizé prayer\, but please register below by March 13th so we may plan accordingly for lunch.
URL:https://holywisdommonastery.org/event/lenten-taize-prayer-service/
LOCATION:WI
CATEGORIES:Prayer and Worship,Sunday Assembly,Taizé Prayer
ATTACH;FMTTYPE=image/jpeg:https://holywisdommonastery.org/wp-content/uploads/2026/01/Lenten-Taize-prayer-service-1600px.jpg
ORGANIZER;CN="Bill Frederick":MAILTO:bfrederick@holywisdommonastery.org
END:VEVENT
END:VCALENDAR