BEGIN:VCALENDAR
VERSION:2.0
PRODID:-//Holy Wisdom Monastery - ECPv6.15.20//NONSGML v1.0//EN
CALSCALE:GREGORIAN
METHOD:PUBLISH
X-WR-CALNAME:Holy Wisdom Monastery
X-ORIGINAL-URL:https://holywisdommonastery.org
X-WR-CALDESC:Events for Holy Wisdom Monastery
REFRESH-INTERVAL;VALUE=DURATION:PT1H
X-Robots-Tag:noindex
X-PUBLISHED-TTL:PT1H
BEGIN:VTIMEZONE
TZID:America/Chicago
BEGIN:DAYLIGHT
TZOFFSETFROM:-0600
TZOFFSETTO:-0500
TZNAME:CDT
DTSTART:20250309T080000
END:DAYLIGHT
BEGIN:STANDARD
TZOFFSETFROM:-0500
TZOFFSETTO:-0600
TZNAME:CST
DTSTART:20251102T070000
END:STANDARD
BEGIN:DAYLIGHT
TZOFFSETFROM:-0600
TZOFFSETTO:-0500
TZNAME:CDT
DTSTART:20260308T080000
END:DAYLIGHT
BEGIN:STANDARD
TZOFFSETFROM:-0500
TZOFFSETTO:-0600
TZNAME:CST
DTSTART:20261101T070000
END:STANDARD
BEGIN:DAYLIGHT
TZOFFSETFROM:-0600
TZOFFSETTO:-0500
TZNAME:CDT
DTSTART:20270314T080000
END:DAYLIGHT
BEGIN:STANDARD
TZOFFSETFROM:-0500
TZOFFSETTO:-0600
TZNAME:CST
DTSTART:20271107T070000
END:STANDARD
END:VTIMEZONE
BEGIN:VEVENT
DTSTART;TZID=America/Chicago:20260220T190000
DTEND;TZID=America/Chicago:20260222T120000
DTSTAMP:20260424T220505
CREATED:20260107T161634Z
LAST-MODIFIED:20260210T181651Z
UID:10005149-1771614000-1771761600@holywisdommonastery.org
SUMMARY:Grace & Reflection: A Courage & Renewal® Weekend
DESCRIPTION:Grace & Reflection: A Courage & Renewal® Weekend\nEach renewal weekend will include creating a quiet\, focused\, and enlivened space — a Circle of Trust® — where personal\, inner wisdom can be heard. There will be a mix of time spent in large group\, small group\, and individual reflection along with poetry\, teaching stories\, wisdom traditions\, nature\, and activities for exploration. We will use these experiences and other rich metaphors to symbolize and discover and explore life questions. Together\, we will experience creating spaces in our lives to tend and nurture our desire to live fully with courage and resilience. \n\nRevitalize your commitment to the values that give meaning to your life.\nIncrease your ability to listen openly and be present.\nLearn reflective practices to become more intentional.\nExplore questions to build and sustain community.\nExpand trustworthy and authentic relationships.\n\nThe Circle of Trust® approach is based on the work of Dr. Parker J. Palmer\, Founder and Senior Partner Emeritus of the Center for Courage & Renewal\, who is a world-renowned writer\, speaker and activist. Explore the principles\, practices and resources from the Center for Courage & Renewal: https://couragerenewal.org/courage-renewal-approach/ \nThis program is being independently organized and led by a Courage & Renewal Facilitator(s) prepared by the Center for Courage & Renewal. \nSchedule\nFriday\, February 20 \n3:00 pm – Check-in for Retreatants Staying in RGH\n6:30 pm – Registration\n7:00-9:00 pm – Session One \nSaturday\, February 21\n9:00-10:15 am – Session Two\n10:15-10:30 am – Break\n10:30 am-12:00 pm – Session Three\n12:00-1:30 pm – Lunch and Free Time\n1:30-3:00 pm – Session Four\n3:00-3:15 pm – Break\n3:30-5:00 pm – Session Five\n5:15 pm – Dinner \nSunday\, February 22\n10:00 am-12:00 pm – Session Six \nLeaders – Mary Louise Peters\, MSE & Amy Christianson\, EdD\n \n  \nMary Louise Peters is a Courage & Renewal® Facilitator\, providing retreats and renewal experiences since 2010. She has worked as an educator and consultant at local\, state and national levels to improve early childhood and special education for children and families\, teaching practices and conditions for staff\, and state educational systems. \n  \n  \n  \n \n  \nAmy Christianson recently completed the Courage & Renewal® Practicum Program. Amy has been a participant in a number of seasonal and Circle of Trust retreats. She has a long professional career in education within early childhood\, K-12 and higher education settings. Amy’s background includes educational leadership\, organizational change and working with diverse populations. \n  \n\nCost\n$250 commuter; $435 residential \nRegister\nPlease register by February 13\, 2026. The maximum number of participants is 18 and registration will close when full. \nCancellation policy – if you register but must cancel your registration\, you can receive a 75% refund up until February 13\, 2026. After that\, a 50% refund is available until the retreat starts. \n \n  \n\n\n\n\nUpcoming Courage & Renewal Weekend\nSave the dates for the next Courage & Renewal Weekend\, May 29-31\, “Wonder and Hope”    \n 
URL:https://holywisdommonastery.org/event/grace-and-reflection-26/
LOCATION:Holy Wisdom Monastery\, 4200 County Road M\, Middleton\, WI\, 53562\, United States
CATEGORIES:Holy Wisdom Monastery,Prayer and Worship,Retreats,Seasonal Retreats,Spirituality Programs
ATTACH;FMTTYPE=image/jpeg:https://holywisdommonastery.org/wp-content/uploads/2026/01/Grace-Reflection-800px.jpg
GEO:43.1211199;-89.4520998
X-APPLE-STRUCTURED-LOCATION;VALUE=URI;X-ADDRESS=Holy Wisdom Monastery 4200 County Road M Middleton WI 53562 United States;X-APPLE-RADIUS=500;X-TITLE=4200 County Road M:geo:-89.4520998,43.1211199
END:VEVENT
BEGIN:VEVENT
DTSTART;TZID=America/Chicago:20260222T103000
DTEND;TZID=America/Chicago:20260222T113000
DTSTAMP:20260424T220505
CREATED:20260130T202048Z
LAST-MODIFIED:20260130T203235Z
UID:10005229-1771756200-1771759800@holywisdommonastery.org
SUMMARY:Conversations About Our Benedictine Life: Balance
DESCRIPTION:Deepen your understanding of Benedictine spirituality by joining us for one or more Conversations About Our Benedictine Life: Balance. These gatherings offer time for reflection\, for the contemplation of short readings about balance and moderation from the Rule of Benedict and other wise authors\, and the goodness of being part of the shared way of Benedictine life. The rhythm of Benedictine monastic life – work\, study\, prayer\, rest – is a rhythm of balance that can bring depth and peace to our days. Come listen to Benedict and each other with the ears of your heart; explore the challenges and the gifts of living a life of balance and moderation. \n\nThese sessions are open to any adult who relates to any of the Holy Wisdom Monastery communities.
URL:https://holywisdommonastery.org/event/conversations-balance-2-22-26/
LOCATION:Holy Wisdom Monastery\, 4200 County Road M\, Middleton\, WI\, 53562\, United States
CATEGORIES:Community of Communities,Oblates,Sunday Assembly
ATTACH;FMTTYPE=image/jpeg:https://holywisdommonastery.org/wp-content/uploads/2026/01/Conversations-About-Our-Benedictine-Life-1600px.jpg
ORGANIZER;CN="Pam Shellberg":MAILTO:pshellberg@holywisdommonastery.org
GEO:43.1211199;-89.4520998
X-APPLE-STRUCTURED-LOCATION;VALUE=URI;X-ADDRESS=Holy Wisdom Monastery 4200 County Road M Middleton WI 53562 United States;X-APPLE-RADIUS=500;X-TITLE=4200 County Road M:geo:-89.4520998,43.1211199
END:VEVENT
BEGIN:VEVENT
DTSTART;TZID=America/Chicago:20260224T100000
DTEND;TZID=America/Chicago:20260224T113000
DTSTAMP:20260424T220505
CREATED:20251030T145220Z
LAST-MODIFIED:20260202T210701Z
UID:10005120-1771927200-1771932600@holywisdommonastery.org
SUMMARY:Lent Series: Contemplating Jesus as "I Am" (in-person)
DESCRIPTION:The mystical symbols\, sacred texts and wisdom traditions in the Gospel of John are designed to reveal the Holy One\, the great “I AM\,” through Jesus. Come explore with us these symbols and texts\, enliven your spiritual imagination\, be part of a contemplative community as your Lenten practice this year. \nSchedule\nEach 90-minute session will include a flow of teachings\, readings\, small group conversations\, large group sharings and contemplative silence. \nDates/Times – Lent 2026\nThis is a 5-part series\, offered in-person at Holy Wisdom Monastery on Tuesdays from 10:00-11:30 am\, and online on Wednesdays from 6:30-8:00 pm. \nIn-Person at Holy Wisdom Monastery – 10:00 – 11:30 am \n\nFeb. 24\nMar. 3\nMar. 10\nMar. 17\nMar. 24\n\n\n11:45 am – Midday Prayer: All are welcome to join the sisters’ community and guests for communal prayer in the Oratory (lower level of the monastery building). Click to learn more about prayer at Holy Wisdom Monastery.\n12:00 pm – Lunch ($19): Enjoy a delicious meal prepared fresh by our chefs. Email retreats@holywisdommonastery.org to reserve your meal 48 hours in advance. Please specify which date/dates you wish to stay for lunch.\n\nVirtual – 6:30 – 8:00 pm \n\nFeb. 25\nMar. 4\nMar. 11\nMar. 18\nMar. 25\n\nLeader – Pam Shellberg\n \n  \nPam Shellberg is the director of spiritual nourishment at Holy Wisdom Monastery\, a student of sacred texts\, an educator\, and a contemplative. It is always a joy for her to be able to facilitate critical and contemplative readings of scripture as nourishment during sacred seasons. \n  \n  \n  \nCost\n$65 per person or screen for the series. \nRegister\nPlease register by Feb. 22\, 2026 for the in-person or virtual Lent series. If you need to cancel your registration\, there are no refunds\, but you are welcome to share your registration with someone who could come in your place. \n \n  \n  \n 
URL:https://holywisdommonastery.org/event/lent-series-26-in-person/
LOCATION:Holy Wisdom Monastery\, 4200 County Road M\, Middleton\, WI\, 53562\, United States
CATEGORIES:Community of Communities,Spirituality Programs
ATTACH;FMTTYPE=image/jpeg:https://holywisdommonastery.org/wp-content/uploads/2025/10/Lent-Series-2026-1600px.jpg
ORGANIZER;CN="Pam Shellberg":MAILTO:pshellberg@holywisdommonastery.org
GEO:43.1211199;-89.4520998
X-APPLE-STRUCTURED-LOCATION;VALUE=URI;X-ADDRESS=Holy Wisdom Monastery 4200 County Road M Middleton WI 53562 United States;X-APPLE-RADIUS=500;X-TITLE=4200 County Road M:geo:-89.4520998,43.1211199
END:VEVENT
BEGIN:VEVENT
DTSTART;TZID=America/Chicago:20260225T100000
DTEND;TZID=America/Chicago:20260225T113000
DTSTAMP:20260424T220505
CREATED:20251030T150757Z
LAST-MODIFIED:20260202T210802Z
UID:10005121-1772013600-1772019000@holywisdommonastery.org
SUMMARY:Lent Series: Contemplating Jesus as "I Am" (Virtual)
DESCRIPTION:The mystical symbols\, sacred texts and wisdom traditions in the Gospel of John are designed to reveal the Holy One\, the great “I AM\,” through Jesus. Come explore with us these symbols and texts\, enliven your spiritual imagination\, be part of a contemplative community as your Lenten practice this year. \nSchedule\nEach 90-minute session will include a flow of teachings\, readings\, small group conversations\, large group sharings and contemplative silence. \nDates/Times – Lent 2026\nThis is a 5-part series\, offered in-person at Holy Wisdom Monastery on Tuesdays from 10:00-11:30 am\, and online on Wednesdays from 6:30-8:00 pm. \nIn-Person at Holy Wisdom Monastery – 10:00 – 11:30 am \n\nFeb. 24\nMar. 3\nMar. 10\nMar. 17\nMar. 24\n\n\n11:45 am – Midday Prayer: All are welcome to join the sisters’ community and guests for communal prayer in the Oratory (lower level of the monastery building). Click to learn more about prayer at Holy Wisdom Monastery.\n12:00 pm – Lunch ($19): Enjoy a delicious meal prepared fresh by our chefs. Email retreats@holywisdommonastery.org to reserve your meal 48 hours in advance. Please specify which date/dates you wish to stay for lunch.\n\nVirtual – 6:30 – 8:00 pm \n\nFeb. 25\nMar. 4\nMar. 11\nMar. 18\nMar. 25\n\nLeader – Pam Shellberg\n \n  \nPam Shellberg is the director of spiritual nourishment at Holy Wisdom Monastery\, a student of sacred texts\, an educator\, and a contemplative. It is always a joy for her to be able to facilitate critical and contemplative readings of scripture as nourishment during sacred seasons. \n  \n  \n  \nCost\n$65 per person or screen for the series. \nRegister\nPlease register by Feb. 22\, 2026 for the in-person or virtual Lent series. If you need to cancel your registration\, there are no refunds\, but you are welcome to share your registration with someone who could come in your place.
URL:https://holywisdommonastery.org/event/lent-series-26-virtual/
LOCATION:Holy Wisdom Monastery\, 4200 County Road M\, Middleton\, WI\, 53562\, United States
CATEGORIES:Community of Communities,Spirituality Programs
ATTACH;FMTTYPE=image/jpeg:https://holywisdommonastery.org/wp-content/uploads/2025/10/Lent-Series-2026-1600px.jpg
ORGANIZER;CN="Pam Shellberg":MAILTO:pshellberg@holywisdommonastery.org
GEO:43.1211199;-89.4520998
X-APPLE-STRUCTURED-LOCATION;VALUE=URI;X-ADDRESS=Holy Wisdom Monastery 4200 County Road M Middleton WI 53562 United States;X-APPLE-RADIUS=500;X-TITLE=4200 County Road M:geo:-89.4520998,43.1211199
END:VEVENT
BEGIN:VEVENT
DTSTART;TZID=America/Chicago:20260225T143000
DTEND;TZID=America/Chicago:20260225T153000
DTSTAMP:20260424T220505
CREATED:20260220T153852Z
LAST-MODIFIED:20260220T160846Z
UID:10005391-1772029800-1772033400@holywisdommonastery.org
SUMMARY:Centering Prayer Groups - 4th Wednesday
DESCRIPTION:Centering Prayer Groups \nAll are welcome to join our two centering prayer groups which meet on alternating Wednesdays. Both incorporate a short reading and time for silent prayer or meditation. \n\n1st and 3rd Wednesdays\n\n7:00-8:00 pm\nRetreat & Guest House Room 10\nIncludes a short walking meditation in between periods of seated meditation\nFor more information contact Barb Abbott\, 608-284-7424\n\n\n2nd and 4th Wednesdays \n\n2:30-3:30 pm\nMonastery Oratory –\nTwo\, 20-minute periods of seated meditation with a 5-minute break\nFor more information contact Carole Kretschman\, 608-577-3243\n\n\n\nWe feel the presence of the Holy One even more strongly than when we center by ourselves. … Our prayer has less outward distractions for that hour than if we center at home. … Having the group supports us in our prayer life.
URL:https://holywisdommonastery.org/event/centering-prayer-groups-4th-wednesday/2026-02-25/
LOCATION:Holy Wisdom Monastery\, 4200 County Road M\, Middleton\, WI\, 53562\, United States
CATEGORIES:Centering Prayer Groups,Community of Communities,Oblates,Prayer and Worship,Sunday Assembly
ATTACH;FMTTYPE=image/jpeg:https://holywisdommonastery.org/wp-content/uploads/2022/12/centering-prayer-groups.jpg
GEO:43.1211199;-89.4520998
X-APPLE-STRUCTURED-LOCATION;VALUE=URI;X-ADDRESS=Holy Wisdom Monastery 4200 County Road M Middleton WI 53562 United States;X-APPLE-RADIUS=500;X-TITLE=4200 County Road M:geo:-89.4520998,43.1211199
END:VEVENT
BEGIN:VEVENT
DTSTART;TZID=America/Chicago:20260226T130000
DTEND;TZID=America/Chicago:20260226T150000
DTSTAMP:20260424T220505
CREATED:20251204T202507Z
LAST-MODIFIED:20260202T153726Z
UID:10005139-1772110800-1772118000@holywisdommonastery.org
SUMMARY:Wisdom Prairie Winter Tour
DESCRIPTION:Join us for an experience for everyone to explore the seasonal beauty found on the monastery grounds in winter. Knowledgeable tour guides will share the story of caring for the earth and help participants deepen their relationship with this land. Tour will cover 1-1.5 miles on walking trails at a leisurely pace. \nMeet at the kiosk in the monastery building parking lot (take the right fork in the driveway). Tours will take place in small groups. We will proceed with the tour in the event of light to moderate rain or snow but will cancel for thunderstorms or other severe weather. \nCost\nThere is no cost to participants for this tour. Donations to Care for the Earth are always welcome. \nRegister\nPlease register so we have enough tour guides and can contact you in case we need to cancel due to weather. \nIf you registered for this event but can no longer attend\, please fill out this form to let us know of your cancellation. \n 
URL:https://holywisdommonastery.org/event/wisdom-prairie-winter-tour-26/
LOCATION:Holy Wisdom Monastery\, 4200 County Road M\, Middleton\, WI\, 53562\, United States
CATEGORIES:Care for the Earth,Environmental Education,Friends of Wisdom Prairie,Outings and Tours
ATTACH;FMTTYPE=image/jpeg:https://holywisdommonastery.org/wp-content/uploads/2025/12/Winter-Tour-1600px-20250213_090659.jpg
ORGANIZER;CN="Amy Alstad":MAILTO:aalstad@holywisdommonastery.org
GEO:43.1211199;-89.4520998
X-APPLE-STRUCTURED-LOCATION;VALUE=URI;X-ADDRESS=Holy Wisdom Monastery 4200 County Road M Middleton WI 53562 United States;X-APPLE-RADIUS=500;X-TITLE=4200 County Road M:geo:-89.4520998,43.1211199
END:VEVENT
END:VCALENDAR