BEGIN:VCALENDAR
VERSION:2.0
PRODID:-//Holy Wisdom Monastery - ECPv6.15.20//NONSGML v1.0//EN
CALSCALE:GREGORIAN
METHOD:PUBLISH
X-ORIGINAL-URL:https://holywisdommonastery.org
X-WR-CALDESC:Events for Holy Wisdom Monastery
REFRESH-INTERVAL;VALUE=DURATION:PT1H
X-Robots-Tag:noindex
X-PUBLISHED-TTL:PT1H
BEGIN:VTIMEZONE
TZID:America/Chicago
BEGIN:DAYLIGHT
TZOFFSETFROM:-0600
TZOFFSETTO:-0500
TZNAME:CDT
DTSTART:20250309T080000
END:DAYLIGHT
BEGIN:STANDARD
TZOFFSETFROM:-0500
TZOFFSETTO:-0600
TZNAME:CST
DTSTART:20251102T070000
END:STANDARD
BEGIN:DAYLIGHT
TZOFFSETFROM:-0600
TZOFFSETTO:-0500
TZNAME:CDT
DTSTART:20260308T080000
END:DAYLIGHT
BEGIN:STANDARD
TZOFFSETFROM:-0500
TZOFFSETTO:-0600
TZNAME:CST
DTSTART:20261101T070000
END:STANDARD
BEGIN:DAYLIGHT
TZOFFSETFROM:-0600
TZOFFSETTO:-0500
TZNAME:CDT
DTSTART:20270314T080000
END:DAYLIGHT
BEGIN:STANDARD
TZOFFSETFROM:-0500
TZOFFSETTO:-0600
TZNAME:CST
DTSTART:20271107T070000
END:STANDARD
END:VTIMEZONE
BEGIN:VEVENT
DTSTART;TZID=America/Chicago:20260201T140000
DTEND;TZID=America/Chicago:20260201T153000
DTSTAMP:20260424T221218
CREATED:20251111T150356Z
LAST-MODIFIED:20260115T213750Z
UID:10005134-1769954400-1769959800@holywisdommonastery.org
SUMMARY:Monastic Monologues: Sharing Joy
DESCRIPTION:Monastic Monologues: Sharing Joy\nStep Into the Magic! \nAre you ready for an afternoon bursting with wonder\, adventure\, and unforgettable stories and songs? Join our community for an inspiring gathering of storytellers\, musicians\, and singers—an event where the power of words and music truly comes alive. \nFrom heart-pounding journeys to faraway places\, to laugh-out-loud moments\, soulful tales and music that touch your heart\, our performers will take you on an unforgettable ride. \nThis isn’t just a performance\, it’s an experience. One that brings people together\, celebrates creativity\, and weaves a kind of magic that sparks your imagination and strengthens our sense of community. \nCome for the music and stories… stay for the magic! \nSchedule\n1:30 pm – Doors open\n2:00 pm – Monastic Monologues begins\n3:30 pm – Reception and “After Glow” \nStorytellers\, Musicians & Emcee\n \nJane Barnard is a Madison-based writer\, visual artist and watercolor teacher. She’s reading from her memoir-in-progress\, entitled ” Poetry as Pain Relief\,” about her spiritual journey of surviving dark times with beauty\, with humor and grace. She celebrates the artists who have seeped into her bones\, to soothe her loneliness and bring her joy. \n  \nYou can learn more about Jane at her website. \n  \n  \n  \n  \nAnn Baltes (right) and Bill Rosholt (left) are members of Sunday Assembly and have cherished being\nconnected to this beloved community of communities over many years\, musically and\notherwise. They also consider it an extraordinary gift to have raised their daughter\,\nGrace\, at Holy Wisdom as an ecumenical Benedictine. Ann has a background serving in\nparishes and other settings in the areas of pastoral care\, adult and youth faith formation\,\nliturgical music\, and retreat facilitation. Bill works as a Systems Development Test\nEngineer for Exact Sciences in Madison. Ann and Bill met as undergrads studying voice\nand singing in choirs at Luther College in Decorah\, Iowa. They are both choral music\nenthusiasts having sung continuously since high school students in various choirs in\nIowa\, Pennsylvania\, Illinois\, and Wisconsin. They have sung regularly in Madison and\nsurrounding areas as both choral artists and soloists with the Isthmus Vocal Ensemble\,\nWisconsin Chamber Choir\, Madison Choral Project\, Cheers Madison\, and Madison\nSavoyards \nJean Feraca’s favorite 2024 Christmas gift is a coffee cup from an anonymous donor that reads\, “I am Kind of a Big Deal in Wisconsin.” Famous as a talk show host on Wisconsin Public Radio\, Jean was a writer before she became a broadcaster. The award-winning author of three books of poetry and the memoir\, I Hear Voices: a Memoir of Love\, Death\, and the Radio\, Jean teaches in UW-Odyssey\, the humanities program she co-founded\, and in Wisconsin prisons with the Prison Ministry Project. \nJean is a Sunday Assembly member\, Benedictine Oblate since 2016\, and one of the Monastic Monologues presenters. Jean’s a beloved voice of Wisconsin Public Radio and a true original. For 28 years\, Jean was the host and producer on WPR’s Ideas Network\, best known for the award-winning program Here on Earth: Radio Without Borders. Her work has beautifully blended humanities\, poetry\, curiosity\, and community\, making her one of the most respected and recognizable figures in public radio. She joined WPR in 1983 as a humanities producer and went on to host some of the network’s most memorable shows. Jean’s award-winning series\, “Women of Spirit” was developed with the help of the Benedictine Sisters here at Holy Wisdom. \nBut what really makes Jean shine is her warmth\, wit\, and ability to laugh at herself. When asked about her funniest moments on air\, she didn’t hesitate to share a few gems from her broadcasting life. There was the day she opened her own show with\, “Good morning\, I’m Jean Ferrara\,” accidentally mispronouncing her own name. Or the time she invited her big brother on as a guest—“big mistake\,” she laughs—only to have him greet her on air with\, “You already made a mistake!” And then there’s the moment she’ll never quite live down: introducing “Wisconsin’s most famous baseball player… Brett Favre!” \nJoin us for a performance by Jean Feraca during Monastic Monologues and enjoy stories\, humor\, and insight from a master storyteller whose voice—and laughter—have been part of Wisconsin’s cultural fabric for decades. \n  \n \nBill Frederick is the Director of Worship and Music at Holy Wisdom Monastery. He studied voice at the University of Wisconsin-Platteville while earning a Bachelor’s of Music in Vocal Performance under the tutelage of Dr. Gerald Darrow. He has been leading music and liturgy in various Churches full-time over the past 40 years. 33 years ago\, Bill and Steve Johnson founded “Enter the Season With Song\,” a group of musicians who gather for Christmas and summer concerts. The group has recorded three CDs and has given every dollar raised from every concert\, a total exceeding $250\,000\, to various charities. \n  \n  \n  \n  \nMax Harris earned his B.A. in English from Cambridge University and went on to complete a Ph.D. in Religious Studies at the University of Virginia. Over the years\, he’s taught in a range of fields—from Latin American Studies to Psychiatry at the University of Virginia\, and Religion and Literature at Yale Divinity School. He’s also written six books\, including Carnival and Other Christian Festivals (University of Texas Press) and Sacred Folly: A New History of the Feast of Fools (Cornell University Press). \nBeyond academia\, Max has pastored Presbyterian churches in England\, Virginia\, Maryland\, and Wisconsin. But if you ask him what really matters\, he’ll tell you it’s not the titles or the books—it’s his 52-year (and counting!) marriage to Ann\, and the gracious\, saving work of the Holy Spirit that continues to shape their life together. \n  \n  \nSteve Johnson is the Director of Music Ministry at St. Dunstan’s Episcopal Church in Madison. He has worked for the past 30+ years in various churches as Director of Liturgy and Music. Steve studied voice and piano at the University of Wisconsin-Madison while earning a degree in k-12 music education. \n  \n  \n  \n  \n  \n  \nTerry Larson is a previous Protestant pastor who prefers poetry\, pollinator plants\, preaching\, progressive people\, polite politicians\, pithy plots\, pleasing prairies\, plentiful portions of produce and…alliteration. \n  \n  \n  \n  \n  \n  \n  \n \nJanet Neurauter’s first time on stage was as a reindeer in her 2nd-grade holiday pageant and was actively involved in theater throughout school and with the Nicolet Players in Rhinelander\, WI. She enjoys writing short stories and monologues and is working on her second play. \n  \n  \n  \n  \n  \n  \n \nOriginally from Michigan\, Bill Santer II has called Wisconsin home since 1987. With a background in marketing\, education and the arts\, he now enjoys helping people find their perfect home as a realtor. At Sunday Assembly\, Bill feels fortunate to be part of a welcoming\, earth-conscious community that celebrates kindness\, open-minded conversation and shared purpose. Whether he’s helping someone settle into a new home\, concert-going\, telling stories or connecting with his community\, Bill brings a genuine spirit of curiosity\, care and joy to everything he does. \n  \n  \n  \n  \nSusan Santner is a passionate and versatile storyteller who loves to bring stories to life. She’s shared her tales at festivals\, schools\, libraries and community events across the region\, captivating audiences of all ages. With experience as an actress\, theatre director\, puppeteer and library director\, Susan’s creativity shines through in every performance. Her storytelling is lively\, imaginative and full of heart\, inviting listeners to step right into the world of her stories. \n  \n  \n  \n  \n  \nGeorge Teague is a Madison-based cellist and teacher. He maintains an active studio at home and at UW-Steven’s Point. George received his performance degrees from Northern Arizona University and the Chicago College of Performing Arts. \n  \n  \n  \n  \n  \n  \nEivind Hansen Photography \nPatrick Terry was born and raised in Janesville\, WI\, and has been heard on operatic stages across the world. Career highlights include singing Eustazio at the Glyndebourne Festival\, Rinaldo with the Minnesota Opera\, Rosencratz with the Bayerische Staatsoper and premiering Brett Dean’s ‘In this brief moment’ with the Elbphilharmonie. He earned his degrees from the University of Minnesota-Twin Cities\, The Royal Academy of Music in London and was the first countertenor to join the Jette Parker Young Artist program at the Royal Opera House Covent Garden. \n\n\n  \n  \n  \nCost and Registration\nThere is no cost to register\, but we ask that guests register so we may plan accordingly. We also ask that guests consider a goodwill donation to help support the monastery. There will be a physical donation box at the event for anyone who wants to donate in-person or you may make an online donation when you register with the button below. \n \n 
URL:https://holywisdommonastery.org/event/monastic-monologues-26/
LOCATION:Holy Wisdom Monastery\, 4200 County Road M\, Middleton\, WI\, 53562\, United States
CATEGORIES:Benedictine Women of Madison,Center for Clergy Renewal,Community of Communities,Friends of Wisdom Prairie,Oblates,Sunday Assembly
ATTACH;FMTTYPE=image/jpeg:https://holywisdommonastery.org/wp-content/uploads/2025/11/Monastic-Monologues-Sharing-Joy-1600px.jpg
GEO:43.1211199;-89.4520998
X-APPLE-STRUCTURED-LOCATION;VALUE=URI;X-ADDRESS=Holy Wisdom Monastery 4200 County Road M Middleton WI 53562 United States;X-APPLE-RADIUS=500;X-TITLE=4200 County Road M:geo:-89.4520998,43.1211199
END:VEVENT
BEGIN:VEVENT
DTSTART;TZID=America/Chicago:20260202T130000
DTEND;TZID=America/Chicago:20260202T143000
DTSTAMP:20260424T221218
CREATED:20251030T204313Z
LAST-MODIFIED:20260325T151728Z
UID:10005125-1770037200-1770042600@holywisdommonastery.org
SUMMARY:Sacred Thresholds
DESCRIPTION:Sacred Thresholds is a contemplative prayer gathering. \nWe are living through a unique chapter in American history when our most cherished values seem threatened\, indeed\, our whole way of life. Each of us\, in our own way\, is asking\, What can I do?\, and the answers\, so far\, seem woefully inadequate to the challenge. It is in that same spirit of humility that we are offering Sacred Thresholds as our answer to that question. Woefully inadequate\, yes\, small\, but genuine\, offered in a communal spirit\, coming together to make a circle\, to pray\, in old ways and in new ways\, to hold each other’s hearts and help one another to stay open. That is what Sacred Thresholds is all about. It’s a work in progress. Like all of us. \nPlease join us at 1:00 pm on the first Monday of the month in the Retreat and Guest House room 222 . \nUpcoming dates\n\nNov. 3\, 2025\nDec. 1\, 2025\nJan. 5\, 2026\nFeb. 5\, 2026\nMar. 2\, 2026\nApr. 6\, 2026\nMay 4\, 2026\nJun. 1\, 2026
URL:https://holywisdommonastery.org/event/sacred-thresholds/2026-02-02/
LOCATION:Holy Wisdom Monastery\, 4200 County Road M\, Middleton\, WI\, 53562\, United States
CATEGORIES:Community of Communities,Holy Wisdom Monastery
ATTACH;FMTTYPE=image/jpeg:https://holywisdommonastery.org/wp-content/uploads/2020/06/Grace-sunset-scaled.jpg
ORGANIZER;CN="Sandy Wojtal-Weber":MAILTO:sandyweber@charter.net
GEO:43.1211199;-89.4520998
X-APPLE-STRUCTURED-LOCATION;VALUE=URI;X-ADDRESS=Holy Wisdom Monastery 4200 County Road M Middleton WI 53562 United States;X-APPLE-RADIUS=500;X-TITLE=4200 County Road M:geo:-89.4520998,43.1211199
END:VEVENT
BEGIN:VEVENT
DTSTART;TZID=America/Chicago:20260203T183000
DTEND;TZID=America/Chicago:20260203T200000
DTSTAMP:20260424T221218
CREATED:20260130T201034Z
LAST-MODIFIED:20260130T202943Z
UID:10005227-1770143400-1770148800@holywisdommonastery.org
SUMMARY:Conversations About Our Benedictine Life: Balance
DESCRIPTION:Deepen your understanding of Benedictine spirituality by joining us for one or more Conversations About Our Benedictine Life: Balance. These gatherings offer time for reflection\, for the contemplation of short readings about balance and moderation from the Rule of Benedict and other wise authors\, and the goodness of being part of the shared way of Benedictine life. The rhythm of Benedictine monastic life – work\, study\, prayer\, rest – is a rhythm of balance that can bring depth and peace to our days. Come listen to Benedict and each other with the ears of your heart; explore the challenges and the gifts of living a life of balance and moderation. \n\nThese sessions are open to any adult who relates to any of the Holy Wisdom Monastery communities.
URL:https://holywisdommonastery.org/event/conversations-balance-2-3-26/
LOCATION:Holy Wisdom Monastery\, 4200 County Road M\, Middleton\, WI\, 53562\, United States
CATEGORIES:Community of Communities,Oblates,Sunday Assembly
ATTACH;FMTTYPE=image/jpeg:https://holywisdommonastery.org/wp-content/uploads/2026/01/Conversations-About-Our-Benedictine-Life-1600px.jpg
ORGANIZER;CN="Pam Shellberg":MAILTO:pshellberg@holywisdommonastery.org
GEO:43.1211199;-89.4520998
X-APPLE-STRUCTURED-LOCATION;VALUE=URI;X-ADDRESS=Holy Wisdom Monastery 4200 County Road M Middleton WI 53562 United States;X-APPLE-RADIUS=500;X-TITLE=4200 County Road M:geo:-89.4520998,43.1211199
END:VEVENT
BEGIN:VEVENT
DTSTART;TZID=America/Chicago:20260204T190000
DTEND;TZID=America/Chicago:20260204T200000
DTSTAMP:20260424T221218
CREATED:20260219T160034Z
LAST-MODIFIED:20260220T161241Z
UID:10005358-1770231600-1770235200@holywisdommonastery.org
SUMMARY:Centering Prayer Groups - 1st Wednesday
DESCRIPTION:Centering Prayer Groups \nAll are welcome to join our two centering prayer groups which meet on alternating Wednesdays. Both incorporate a short reading and time for silent prayer or meditation. \n\n1st and 3rd Wednesdays\n\n7:00-8:00 pm\nRetreat & Guest House Room 10\nIncludes a short walking meditation in between periods of seated meditation\nFor more information contact Barb Abbott\, 608-284-7424\n\n\n2nd and 4th Wednesdays \n\n2:30-3:30 pm\nMonastery Oratory –\nTwo\, 20-minute periods of seated meditation with a 5-minute break\nFor more information contact Carole Kretschman\, 608-577-3243\n\n\n\nWe feel the presence of the Holy One even more strongly than when we center by ourselves. … Our prayer has less outward distractions for that hour than if we center at home. … Having the group supports us in our prayer life.
URL:https://holywisdommonastery.org/event/centering-prayer-groups-1st-wednesday/2026-02-04/
LOCATION:Holy Wisdom Monastery\, 4200 County Road M\, Middleton\, WI\, 53562\, United States
CATEGORIES:Centering Prayer Groups,Community of Communities,Oblates,Prayer and Worship,Sunday Assembly
ATTACH;FMTTYPE=image/jpeg:https://holywisdommonastery.org/wp-content/uploads/2022/12/centering-prayer-groups.jpg
GEO:43.1211199;-89.4520998
X-APPLE-STRUCTURED-LOCATION;VALUE=URI;X-ADDRESS=Holy Wisdom Monastery 4200 County Road M Middleton WI 53562 United States;X-APPLE-RADIUS=500;X-TITLE=4200 County Road M:geo:-89.4520998,43.1211199
END:VEVENT
BEGIN:VEVENT
DTSTART;TZID=America/Chicago:20260205T101500
DTEND;TZID=America/Chicago:20260205T113000
DTSTAMP:20260424T221218
CREATED:20251113T152002Z
LAST-MODIFIED:20260203T213335Z
UID:10005135-1770286500-1770291000@holywisdommonastery.org
SUMMARY:Nine Phases of Qi Cultivation: A Progressive Qigong Series for Home Use
DESCRIPTION:Join Sandy Salvo\, Senior Trainer for the Institute of Integral Qigong and Tai Chi\, in a three-part series to learn nine simple yet powerful Qigong movements for cultivating your life force energy. By understanding the philosophy behind the Nine Phases Practice you will be able to more fully integrate your body\, heart/mind and spirit to promote health and well-being. Leave feeling vibrant and centered\, ready for the joys and challenges of your day. No experience or equipment necessary. All are welcome! \nEvent Schedule \nSession 1\, Feb. 5: Philosophy behind the 9 Phases plus learn and practice Phases 1-5\nSession 2\, Feb. 12: Review Phases 1-5 and learn Phases 6-9\nSession 3\, Feb. 19: Integrate the 9 Phases of Qi Cultivation with intention and affirmations \nConsider extending your experience by staying longer and attending optional prayer and/or lunch at the monastery. There is a fee for lunch if you decide to stay. \n\n11:45 am – Midday Prayer: All are welcome to join the sisters’ community and guests for communal prayer in the Oratory (lower level of the monastery building). Click to learn more about prayer at Holy Wisdom Monastery.\n12:00 pm – Lunch ($19): Enjoy a delicious meal prepared fresh by our chefs. Email retreats@holywisdommonastery.org to reserve your meal 48 hours in advance. Please specify which date/dates you wish to stay for lunch.\n\nInstructor – Sandy Salvo\n \nSandy Salvo is a Senior Faculty and Teacher-Trainer for the Institute of Integral Qigong and Tai Chi\, a certified Mindfulness Meditation Teacher and founder of Centered-Connections.com. She enjoys sharing her love of Qigong and the mind-body-spirit benefits it can offer all who seek them. \n  \n  \n  \n  \n  \n  \nCost\n$40/person \nRegister\nRegister by Monday\, Feb. 2\, 2026\, with the button below. The registration fee is non-refundable. \n \n 
URL:https://holywisdommonastery.org/event/nine-phases-of-qi-cultivation/
LOCATION:Holy Wisdom Monastery\, 4200 County Road M\, Middleton\, WI\, 53562\, United States
CATEGORIES:Community of Communities,Hospitality,Wellness
ATTACH;FMTTYPE=image/jpeg:https://holywisdommonastery.org/wp-content/uploads/2025/11/Nine-Phases-of-Qi-Cultivation-A-Progressive-Qigong-Series-for-Home-Use-IMG_4405-1600px.jpg
GEO:43.1211199;-89.4520998
X-APPLE-STRUCTURED-LOCATION;VALUE=URI;X-ADDRESS=Holy Wisdom Monastery 4200 County Road M Middleton WI 53562 United States;X-APPLE-RADIUS=500;X-TITLE=4200 County Road M:geo:-89.4520998,43.1211199
END:VEVENT
BEGIN:VEVENT
DTSTART;TZID=America/Chicago:20260207T090000
DTEND;TZID=America/Chicago:20260207T130000
DTSTAMP:20260424T221218
CREATED:20251120T205516Z
LAST-MODIFIED:20260206T194459Z
UID:10005137-1770454800-1770469200@holywisdommonastery.org
SUMMARY:Neurographic Art: A Contemplative Practice
DESCRIPTION:Neurographic Art is a contemplative practice that taps into the healing power of creativity. Can’t draw a straight line? Perfect! This workshop is for those with or without previous art experience. Participants will learn the basics of Neurographic Art and create their own work which will be suitable for framing. All supplies will be provided\, including a mat for the art created and handouts to take home. Join us to learn about this contemplative\, feel-good art practice that provides relaxation\, reduces stress and increases creativity. \nDue to popular demand\, we have opened a second session (of the same program) in the afternoon. \nSchedule\nSession I: 9:00 am-12:00 pm | Session II: 1:00-4:00 pm \n\n9:00-10:00 am | 1:00-2:00 pm – Welcome and introduction to Neurographic Art (Power Point and demonstration)\n10:00-11:30 am | 2:00-3:30 pm – Participants will make their own work of art using the techniques described and demonstrated\n11:30-11:45 am | 3:30-3:45 pm – The class will gather together to view everyone’s art and share their insights and experience\n\n  \n\n11:45-12:00 pm – Midday Prayer (optional)\n12:00-1:00 pm – Lunch (optional – participants in either session can stay for lunch for an additional fee)\n\nLeader – Janet Neurauter\n \nJanet Neurauter is a coworker at Holy Wisdom Monastery. She has led the Neurographic Art workshop four times – once for coworkers\, once for the public and twice for the Center for Clergy Renewal participants. \n  \n\n  \n  \nCost\nThere are two cost options for this program: one with lunch and one without. \n\n$37/person\, includes program and all supplies\n$56/person\, includes program\, all supplies and lunch\n\nRegister\nThis event is limited to 20 participants and registration will close when the event is filled or on the registration deadline\, Feb. 6\, 2026. \nSessions I and II are both full. \nThe registration fee is non-refundable.
URL:https://holywisdommonastery.org/event/neurographic-art-26/
LOCATION:Holy Wisdom Monastery\, 4200 County Road M\, Middleton\, WI\, 53562\, United States
CATEGORIES:Community of Communities,Educational Experience,Holy Wisdom Crafting Community,Spirituality Programs
ATTACH;FMTTYPE=image/jpeg:https://holywisdommonastery.org/wp-content/uploads/2025/11/Neurographic-Art-Banner-IMG_5676-1600px.jpg
GEO:43.1211199;-89.4520998
X-APPLE-STRUCTURED-LOCATION;VALUE=URI;X-ADDRESS=Holy Wisdom Monastery 4200 County Road M Middleton WI 53562 United States;X-APPLE-RADIUS=500;X-TITLE=4200 County Road M:geo:-89.4520998,43.1211199
END:VEVENT
END:VCALENDAR