BEGIN:VCALENDAR
VERSION:2.0
PRODID:-//Holy Wisdom Monastery - ECPv6.15.20//NONSGML v1.0//EN
CALSCALE:GREGORIAN
METHOD:PUBLISH
X-WR-CALNAME:Holy Wisdom Monastery
X-ORIGINAL-URL:https://holywisdommonastery.org
X-WR-CALDESC:Events for Holy Wisdom Monastery
REFRESH-INTERVAL;VALUE=DURATION:PT1H
X-Robots-Tag:noindex
X-PUBLISHED-TTL:PT1H
BEGIN:VTIMEZONE
TZID:America/Chicago
BEGIN:DAYLIGHT
TZOFFSETFROM:-0600
TZOFFSETTO:-0500
TZNAME:CDT
DTSTART:20250309T080000
END:DAYLIGHT
BEGIN:STANDARD
TZOFFSETFROM:-0500
TZOFFSETTO:-0600
TZNAME:CST
DTSTART:20251102T070000
END:STANDARD
BEGIN:DAYLIGHT
TZOFFSETFROM:-0600
TZOFFSETTO:-0500
TZNAME:CDT
DTSTART:20260308T080000
END:DAYLIGHT
BEGIN:STANDARD
TZOFFSETFROM:-0500
TZOFFSETTO:-0600
TZNAME:CST
DTSTART:20261101T070000
END:STANDARD
BEGIN:DAYLIGHT
TZOFFSETFROM:-0600
TZOFFSETTO:-0500
TZNAME:CDT
DTSTART:20270314T080000
END:DAYLIGHT
BEGIN:STANDARD
TZOFFSETFROM:-0500
TZOFFSETTO:-0600
TZNAME:CST
DTSTART:20271107T070000
END:STANDARD
END:VTIMEZONE
BEGIN:VEVENT
DTSTART;VALUE=DATE:20260122
DTEND;VALUE=DATE:20260129
DTSTAMP:20260424T220427
CREATED:20250401T163534Z
LAST-MODIFIED:20250401T163534Z
UID:10005044-1769040000-1769644799@holywisdommonastery.org
SUMMARY:CCR Contemplative Renewal Immersion
DESCRIPTION:
URL:https://holywisdommonastery.org/event/ccr-contemplative-renewal-immersion-2/
LOCATION:Holy Wisdom Monastery\, 4200 County Road M\, Middleton\, WI\, 53562\, United States
CATEGORIES:Center for Clergy Renewal
ORGANIZER;CN="Rachel Young Binter":MAILTO:ryoungbinter@holywisdommonastery.org
GEO:43.1211199;-89.4520998
X-APPLE-STRUCTURED-LOCATION;VALUE=URI;X-ADDRESS=Holy Wisdom Monastery 4200 County Road M Middleton WI 53562 United States;X-APPLE-RADIUS=500;X-TITLE=4200 County Road M:geo:-89.4520998,43.1211199
END:VEVENT
BEGIN:VEVENT
DTSTART;TZID=America/Chicago:20260125T101500
DTEND;TZID=America/Chicago:20260125T120000
DTSTAMP:20260424T220427
CREATED:20251120T222050Z
LAST-MODIFIED:20251215T200936Z
UID:10005138-1769336100-1769342400@holywisdommonastery.org
SUMMARY:Ink and Insight Mindful Writing Circle
DESCRIPTION:Join us for a quarterly gathering that blends creative writing and mindfulness in a supportive\, inclusive space. Whether you identify as a writer or simply enjoy exploring your inner voice\, this group offers you a gentle rhythm of reflective writing (with optional prompts)\, sharing in community and contemplative practices like guided meditation and mindful walking outdoors\, weather permitting. \nCome as you are. No experience needed — just a willingness to pause\, listen and write. You’ll leave with new words\, insights\, and connections. \nDates/Times – Sundays from 10:15 am-12:00 pm \n\nJan. 25\nMar. 1\nJun. 7\nNov. 1\n\nSchedule \n\n10:15 am – Welcome\, housekeeping and settling in\n10:30 am – Guided meditation\n10:45 am – Writing session #1\n11:00 am – Contemplative walking/break\n11:15 am – Writing session #2\n11:30 am – Sharing\n12:00 pm – Close\n\nLeader – Rebecca Jamieson \n \n  \nRebecca Jamieson is the author of The Body of All Things (Finishing Line Press\, 2017). She is the recipient of a 2025 Wisconsin Writers Award\, the 2024 Tupelo Press Prose Prize\, and is a Pushcart Prize nominee. Her writing has appeared in numerous publications\, including Rattle\, The Offing\, Mid-American Review\, and Entropy\, and she’s currently at work on a collection of personal essays. Rebecca lives on Ho-Chunk land in Madison\, Wisconsin. When she’s not writing\, you can find her hiking\, baking\, or cuddling her two cats. \n  \n  \n  \nCost \n$50/person \nRegistration \nLimited to 30 people.
URL:https://holywisdommonastery.org/event/ink-and-insight/
LOCATION:Holy Wisdom Monastery\, 4200 County Road M\, Middleton\, WI\, 53562\, United States
CATEGORIES:Educational Experience,Holy Wisdom Monastery,Wellness,Writing
ATTACH;FMTTYPE=image/jpeg:https://holywisdommonastery.org/wp-content/uploads/2025/11/Ink-and-Insight-1600px.jpg
GEO:43.1211199;-89.4520998
X-APPLE-STRUCTURED-LOCATION;VALUE=URI;X-ADDRESS=Holy Wisdom Monastery 4200 County Road M Middleton WI 53562 United States;X-APPLE-RADIUS=500;X-TITLE=4200 County Road M:geo:-89.4520998,43.1211199
END:VEVENT
BEGIN:VEVENT
DTSTART;TZID=America/Chicago:20260128T120000
DTEND;TZID=America/Chicago:20260128T140000
DTSTAMP:20260424T220427
CREATED:20251106T164801Z
LAST-MODIFIED:20251218T165213Z
UID:10005132-1769601600-1769608800@holywisdommonastery.org
SUMMARY:Fostering a Natural History Community
DESCRIPTION:The practice of natural history is the bedrock of science. This talk will illustrate how we as naturalists employ stories\, specimens\, exploration of the natural world and the practices of paying close attention to build our understanding of the world from the bottom up. Presenter Andrew Hipp will make a case for the importance of natural history as a set of skills and habits that help expose what we don’t yet know and build our affection for the world. Natural history puts the onus on each of us to learn something new before we lose any more pieces\, and it gives us the practices to do so. Supporting and continuing to build a community of naturalists is our best way to ensure the effectiveness and strength of that community. \nSchedule \n\n11:45 am – Doors Open\n11:45 am – Midday Prayer (optional)\n12:00 pm – Lunch\n12:45pm – Presentation Starts\n1:45 pm – Q&A\n\nSpeaker – Andrew Hipp \n \nAndrew Hipp is the Director of the Herbarium and Lead Scientist at The Morton Arboretum and a Lecturer at University of Chicago. His research group investigates the evolution of plant biodiversity\, aiming to understand how the plant Tree of Life evolves and affects our world. He has received awards for his teaching and research from the U.S. Fulbright Program\, National Science Teachers Association\, and International Oak Society. Andrew is the author of popular books on oaks and sedges\, several children’s natural history books\, and more than 140 academic articles and book chapters. \nCost \n$37/person. \nRegistration \nPlease register by January 21\, 2026.
URL:https://holywisdommonastery.org/event/fostering-a-natural-history-community/
LOCATION:Holy Wisdom Monastery\, 4200 County Road M\, Middleton\, WI\, 53562\, United States
CATEGORIES:Care for the Earth,Community of Communities,Educational Experience
ATTACH;FMTTYPE=image/jpeg:https://holywisdommonastery.org/wp-content/uploads/2025/11/Fostering-a-Natural-History-Community-1600px.jpg
ORGANIZER;CN="Amy Alstad":MAILTO:aalstad@holywisdommonastery.org
GEO:43.1211199;-89.4520998
X-APPLE-STRUCTURED-LOCATION;VALUE=URI;X-ADDRESS=Holy Wisdom Monastery 4200 County Road M Middleton WI 53562 United States;X-APPLE-RADIUS=500;X-TITLE=4200 County Road M:geo:-89.4520998,43.1211199
END:VEVENT
END:VCALENDAR