BEGIN:VCALENDAR
VERSION:2.0
PRODID:-//Holy Wisdom Monastery - ECPv6.15.20//NONSGML v1.0//EN
CALSCALE:GREGORIAN
METHOD:PUBLISH
X-ORIGINAL-URL:https://holywisdommonastery.org
X-WR-CALDESC:Events for Holy Wisdom Monastery
REFRESH-INTERVAL;VALUE=DURATION:PT1H
X-Robots-Tag:noindex
X-PUBLISHED-TTL:PT1H
BEGIN:VTIMEZONE
TZID:America/Chicago
BEGIN:DAYLIGHT
TZOFFSETFROM:-0600
TZOFFSETTO:-0500
TZNAME:CDT
DTSTART:20250309T080000
END:DAYLIGHT
BEGIN:STANDARD
TZOFFSETFROM:-0500
TZOFFSETTO:-0600
TZNAME:CST
DTSTART:20251102T070000
END:STANDARD
BEGIN:DAYLIGHT
TZOFFSETFROM:-0600
TZOFFSETTO:-0500
TZNAME:CDT
DTSTART:20260308T080000
END:DAYLIGHT
BEGIN:STANDARD
TZOFFSETFROM:-0500
TZOFFSETTO:-0600
TZNAME:CST
DTSTART:20261101T070000
END:STANDARD
BEGIN:DAYLIGHT
TZOFFSETFROM:-0600
TZOFFSETTO:-0500
TZNAME:CDT
DTSTART:20270314T080000
END:DAYLIGHT
BEGIN:STANDARD
TZOFFSETFROM:-0500
TZOFFSETTO:-0600
TZNAME:CST
DTSTART:20271107T070000
END:STANDARD
END:VTIMEZONE
BEGIN:VEVENT
DTSTART;TZID=America/Chicago:20260419T103000
DTEND;TZID=America/Chicago:20260419T120000
DTSTAMP:20260424T142433
CREATED:20260130T183747Z
LAST-MODIFIED:20260306T220220Z
UID:10005213-1776594600-1776600000@holywisdommonastery.org
SUMMARY:Kids on the Prairie
DESCRIPTION:Explore nature’s beauty and surprises!\nKids on the Prairie (KOTP) is for children and their adult family members. Experienced volunteer educators and guides will facilitate a short hike to learn about nature and explore the grounds and trails. This free event is open to members of Holy Wisdom communities and the general public. \nApril 19 – Signs of Spring \nJoin us as we look for emergent plants\, animals and insects. Depending on the weather\, we may find nectar sources for emerging bumble bees and hear frogs calling around Lost Lake. Together we will share in an action to celebrate Earth Day.
URL:https://holywisdommonastery.org/event/kotp-apr-26/
LOCATION:Holy Wisdom Monastery\, 4200 County Road M\, Middleton\, WI\, 53562\, United States
CATEGORIES:Care for the Earth,Community of Communities,Environmental Education,Friends of Wisdom Prairie,Kids on the Prairie,Outings and Tours,Sunday Assembly
ATTACH;FMTTYPE=image/jpeg:https://holywisdommonastery.org/wp-content/uploads/2026/02/Kids-on-the-Prairie-IMG_7924-800px.jpg
ORGANIZER;CN="Julie Melton":MAILTO:jmelton@uwalumni.com
GEO:43.1211199;-89.4520998
X-APPLE-STRUCTURED-LOCATION;VALUE=URI;X-ADDRESS=Holy Wisdom Monastery 4200 County Road M Middleton WI 53562 United States;X-APPLE-RADIUS=500;X-TITLE=4200 County Road M:geo:-89.4520998,43.1211199
END:VEVENT
END:VCALENDAR