BEGIN:VCALENDAR
VERSION:2.0
PRODID:-//Holy Wisdom Monastery - ECPv6.15.20//NONSGML v1.0//EN
CALSCALE:GREGORIAN
METHOD:PUBLISH
X-ORIGINAL-URL:https://holywisdommonastery.org
X-WR-CALDESC:Events for Holy Wisdom Monastery
REFRESH-INTERVAL;VALUE=DURATION:PT1H
X-Robots-Tag:noindex
X-PUBLISHED-TTL:PT1H
BEGIN:VTIMEZONE
TZID:America/Chicago
BEGIN:DAYLIGHT
TZOFFSETFROM:-0600
TZOFFSETTO:-0500
TZNAME:CDT
DTSTART:20240310T080000
END:DAYLIGHT
BEGIN:STANDARD
TZOFFSETFROM:-0500
TZOFFSETTO:-0600
TZNAME:CST
DTSTART:20241103T070000
END:STANDARD
BEGIN:DAYLIGHT
TZOFFSETFROM:-0600
TZOFFSETTO:-0500
TZNAME:CDT
DTSTART:20250309T080000
END:DAYLIGHT
BEGIN:STANDARD
TZOFFSETFROM:-0500
TZOFFSETTO:-0600
TZNAME:CST
DTSTART:20251102T070000
END:STANDARD
BEGIN:DAYLIGHT
TZOFFSETFROM:-0600
TZOFFSETTO:-0500
TZNAME:CDT
DTSTART:20260308T080000
END:DAYLIGHT
BEGIN:STANDARD
TZOFFSETFROM:-0500
TZOFFSETTO:-0600
TZNAME:CST
DTSTART:20261101T070000
END:STANDARD
END:VTIMEZONE
BEGIN:VEVENT
DTSTART;TZID=America/Chicago:20251109T103000
DTEND;TZID=America/Chicago:20251109T120000
DTSTAMP:20260424T195626
CREATED:20250321T203310Z
LAST-MODIFIED:20250321T203439Z
UID:10005024-1762684200-1762689600@holywisdommonastery.org
SUMMARY:Kids on the Prairie
DESCRIPTION:Explore nature’s beauty and surprises!\nKids on the Prairie (KOTP) is for children and their adult family members. Experienced volunteer educators and guides will facilitate a short hike to learn about nature and explore the grounds and trails. This free event is open to members of Holy Wisdom communities and the general public. \nNovember 9 – Join Us for a Celebration of Our Year!\nWe’ll take a short walk near the gardens and Lost Lake listening and looking for signs of life. Afterward\, wrap up the season with a slide show of 2025 KOTP activities\, games\, hot chocolate and cider.
URL:https://holywisdommonastery.org/event/kids-on-the-prairie-28/
LOCATION:Holy Wisdom Monastery\, 4200 County Road M\, Middleton\, WI\, 53562\, United States
CATEGORIES:Community of Communities,Friends of Wisdom Prairie,Kids on the Prairie,Sunday Assembly
ATTACH;FMTTYPE=image/jpeg:https://holywisdommonastery.org/wp-content/uploads/2025/03/KOTP-2025.jpg
ORGANIZER;CN="Julie Melton":MAILTO:jmelton@uwalumni.com
GEO:43.1211199;-89.4520998
X-APPLE-STRUCTURED-LOCATION;VALUE=URI;X-ADDRESS=Holy Wisdom Monastery 4200 County Road M Middleton WI 53562 United States;X-APPLE-RADIUS=500;X-TITLE=4200 County Road M:geo:-89.4520998,43.1211199
END:VEVENT
END:VCALENDAR