BEGIN:VCALENDAR
VERSION:2.0
PRODID:-//Holy Wisdom Monastery - ECPv6.15.20//NONSGML v1.0//EN
CALSCALE:GREGORIAN
METHOD:PUBLISH
X-ORIGINAL-URL:https://holywisdommonastery.org
X-WR-CALDESC:Events for Holy Wisdom Monastery
REFRESH-INTERVAL;VALUE=DURATION:PT1H
X-Robots-Tag:noindex
X-PUBLISHED-TTL:PT1H
BEGIN:VTIMEZONE
TZID:America/Chicago
BEGIN:DAYLIGHT
TZOFFSETFROM:-0600
TZOFFSETTO:-0500
TZNAME:CDT
DTSTART:20250309T080000
END:DAYLIGHT
BEGIN:STANDARD
TZOFFSETFROM:-0500
TZOFFSETTO:-0600
TZNAME:CST
DTSTART:20251102T070000
END:STANDARD
BEGIN:DAYLIGHT
TZOFFSETFROM:-0600
TZOFFSETTO:-0500
TZNAME:CDT
DTSTART:20260308T080000
END:DAYLIGHT
BEGIN:STANDARD
TZOFFSETFROM:-0500
TZOFFSETTO:-0600
TZNAME:CST
DTSTART:20261101T070000
END:STANDARD
BEGIN:DAYLIGHT
TZOFFSETFROM:-0600
TZOFFSETTO:-0500
TZNAME:CDT
DTSTART:20270314T080000
END:DAYLIGHT
BEGIN:STANDARD
TZOFFSETFROM:-0500
TZOFFSETTO:-0600
TZNAME:CST
DTSTART:20271107T070000
END:STANDARD
END:VTIMEZONE
BEGIN:VEVENT
DTSTART;TZID=America/Chicago:20260207T090000
DTEND;TZID=America/Chicago:20260207T130000
DTSTAMP:20260424T200235
CREATED:20251120T205516Z
LAST-MODIFIED:20260206T194459Z
UID:10005137-1770454800-1770469200@holywisdommonastery.org
SUMMARY:Neurographic Art: A Contemplative Practice
DESCRIPTION:Neurographic Art is a contemplative practice that taps into the healing power of creativity. Can’t draw a straight line? Perfect! This workshop is for those with or without previous art experience. Participants will learn the basics of Neurographic Art and create their own work which will be suitable for framing. All supplies will be provided\, including a mat for the art created and handouts to take home. Join us to learn about this contemplative\, feel-good art practice that provides relaxation\, reduces stress and increases creativity. \nDue to popular demand\, we have opened a second session (of the same program) in the afternoon. \nSchedule\nSession I: 9:00 am-12:00 pm | Session II: 1:00-4:00 pm \n\n9:00-10:00 am | 1:00-2:00 pm – Welcome and introduction to Neurographic Art (Power Point and demonstration)\n10:00-11:30 am | 2:00-3:30 pm – Participants will make their own work of art using the techniques described and demonstrated\n11:30-11:45 am | 3:30-3:45 pm – The class will gather together to view everyone’s art and share their insights and experience\n\n  \n\n11:45-12:00 pm – Midday Prayer (optional)\n12:00-1:00 pm – Lunch (optional – participants in either session can stay for lunch for an additional fee)\n\nLeader – Janet Neurauter\n \nJanet Neurauter is a coworker at Holy Wisdom Monastery. She has led the Neurographic Art workshop four times – once for coworkers\, once for the public and twice for the Center for Clergy Renewal participants. \n  \n\n  \n  \nCost\nThere are two cost options for this program: one with lunch and one without. \n\n$37/person\, includes program and all supplies\n$56/person\, includes program\, all supplies and lunch\n\nRegister\nThis event is limited to 20 participants and registration will close when the event is filled or on the registration deadline\, Feb. 6\, 2026. \nSessions I and II are both full. \nThe registration fee is non-refundable.
URL:https://holywisdommonastery.org/event/neurographic-art-26/
LOCATION:Holy Wisdom Monastery\, 4200 County Road M\, Middleton\, WI\, 53562\, United States
CATEGORIES:Community of Communities,Educational Experience,Holy Wisdom Crafting Community,Spirituality Programs
ATTACH;FMTTYPE=image/jpeg:https://holywisdommonastery.org/wp-content/uploads/2025/11/Neurographic-Art-Banner-IMG_5676-1600px.jpg
GEO:43.1211199;-89.4520998
X-APPLE-STRUCTURED-LOCATION;VALUE=URI;X-ADDRESS=Holy Wisdom Monastery 4200 County Road M Middleton WI 53562 United States;X-APPLE-RADIUS=500;X-TITLE=4200 County Road M:geo:-89.4520998,43.1211199
END:VEVENT
END:VCALENDAR