BEGIN:VCALENDAR
VERSION:2.0
PRODID:-//Holy Wisdom Monastery - ECPv6.15.20//NONSGML v1.0//EN
CALSCALE:GREGORIAN
METHOD:PUBLISH
X-WR-CALNAME:Holy Wisdom Monastery
X-ORIGINAL-URL:https://holywisdommonastery.org
X-WR-CALDESC:Events for Holy Wisdom Monastery
REFRESH-INTERVAL;VALUE=DURATION:PT1H
X-Robots-Tag:noindex
X-PUBLISHED-TTL:PT1H
BEGIN:VTIMEZONE
TZID:America/Chicago
BEGIN:DAYLIGHT
TZOFFSETFROM:-0600
TZOFFSETTO:-0500
TZNAME:CDT
DTSTART:20240310T080000
END:DAYLIGHT
BEGIN:STANDARD
TZOFFSETFROM:-0500
TZOFFSETTO:-0600
TZNAME:CST
DTSTART:20241103T070000
END:STANDARD
BEGIN:DAYLIGHT
TZOFFSETFROM:-0600
TZOFFSETTO:-0500
TZNAME:CDT
DTSTART:20250309T080000
END:DAYLIGHT
BEGIN:STANDARD
TZOFFSETFROM:-0500
TZOFFSETTO:-0600
TZNAME:CST
DTSTART:20251102T070000
END:STANDARD
BEGIN:DAYLIGHT
TZOFFSETFROM:-0600
TZOFFSETTO:-0500
TZNAME:CDT
DTSTART:20260308T080000
END:DAYLIGHT
BEGIN:STANDARD
TZOFFSETFROM:-0500
TZOFFSETTO:-0600
TZNAME:CST
DTSTART:20261101T070000
END:STANDARD
END:VTIMEZONE
BEGIN:VEVENT
DTSTART;TZID=America/Chicago:20251202T100000
DTEND;TZID=America/Chicago:20251202T113000
DTSTAMP:20260424T221533
CREATED:20251015T160111Z
LAST-MODIFIED:20251031T164915Z
UID:10005112-1764669600-1764675000@holywisdommonastery.org
SUMMARY:Advent Series: Ask a Sign of Your God (in-person)
DESCRIPTION:The words of Isaiah\, from the Christian Old Testament\, were given to an ancient people in times of great political\, economic and spiritual upheaval. Poetic and prophetic – they were words of warning and admonishment\, and also reassurance and encouragement. Isaiah was tremendously influential on the heart of Jesus; this Advent we have the chance to open our hearts to that same influence through words that echo from a time past into our own times of upheaval. Join us for conversation\, reflection\, and a contemplative consideration of these beautiful poetic and prophetic texts – inspiring our spiritual imaginations\, leading us to an ancient well of wisdom\, and offering a through-line of hope. This series is open to adults. \nSchedule\nEach gathering will include some teachings\, reflections and small group conversations\, and a time of contemplation on a text\, a piece of art – writing\, images\, poetry or music. \nDates/Times\nIN-PERSON – Tuesdays\, 10:00-11:30 am \n\nDec. 2\nDec. 9\nDec. 16\n\nConsider extending your experience by staying longer and attending optional prayer and/or lunch at the monastery. There is a fee for lunch if you decide to stay. \n\n11:45 am – Midday Prayer: All are welcome to join the sisters’ community and guests for communal prayer in the Oratory (lower level of the monastery building). Click to learn more about prayer at Holy Wisdom Monastery.\n12:00 pm – Lunch ($18): Enjoy a delicious meal prepared fresh by our chefs. Email retreats@holywisdommonastery.org to reserve your meal 48 hours in advance. Please specify which date/dates you wish to stay for lunch.\n\nVIRTUAL – Wednesdays\, 6:30-8:00 pm \n\nDec. 3\nDec. 10\nDec. 17\n\nProgram Leader – Pam Shellberg\n \nPam Shellberg is the director of spiritual nourishment at Holy Wisdom\, a teacher\, a scripture scholar and a contemplative. She is eager to explore sacred texts in community with others\, through historical and contemplative lenses\, so that mystery\, wisdom\, courage and hope might be gifts received. \n  \nCost\n$35 per person or per screen for the series \nIf you are attending the in-person series\, consider staying after for a delicious lunch prepared by our chef. \nPlease contact retreats@holywisdommonastery.org\, 48 hours before the date(s) you wish to purchase lunch. The cost of one lunch is $18/person. \nRegister\nPlease register by Dec. 1\, 2025 for the in-person or virtual Advent series. If you need to cancel your registration\, there are no refunds\, but you are welcome to share your registration with someone who could come in your place.
URL:https://holywisdommonastery.org/event/advent-series-2025-in-person/
LOCATION:Holy Wisdom Monastery\, 4200 County Road M\, Middleton\, WI\, 53562\, United States
CATEGORIES:Center for Clergy Renewal,Community of Communities,Oblates,Prayer and Worship,Spirituality Programs,Sunday Assembly
ATTACH;FMTTYPE=image/jpeg:https://holywisdommonastery.org/wp-content/uploads/2025/10/2025-Advent-Series-Ask-for-a-Sign-of-Your-God-1600px.jpg
GEO:43.1211199;-89.4520998
X-APPLE-STRUCTURED-LOCATION;VALUE=URI;X-ADDRESS=Holy Wisdom Monastery 4200 County Road M Middleton WI 53562 United States;X-APPLE-RADIUS=500;X-TITLE=4200 County Road M:geo:-89.4520998,43.1211199
END:VEVENT
BEGIN:VEVENT
DTSTART;TZID=America/Chicago:20251203T183000
DTEND;TZID=America/Chicago:20251203T200000
DTSTAMP:20260424T221533
CREATED:20251015T213652Z
LAST-MODIFIED:20251015T214146Z
UID:10005113-1764786600-1764792000@holywisdommonastery.org
SUMMARY:Advent Series: Ask a Sign of Your God (virtual)
DESCRIPTION:The words of Isaiah\, from the Christian Old Testament\, were given to an ancient people in times of great political\, economic and spiritual upheaval. Poetic and prophetic – they were words of warning and admonishment\, and also reassurance and encouragement. Isaiah was tremendously influential on the heart of Jesus; this Advent we have the chance to open our hearts to that same influence through words\nthat echo from a time past into our own times of upheaval. Join us for conversation\, reflection\, and a contemplative consideration of these beautiful poetic and prophetic texts – inspiring our spiritual imaginations\, leading us to an ancient well of wisdom\, and offering a through-line of hope. This series is open to adults. \nSchedule\nEach gathering will include some teachings\, reflections and small group conversations\, and a time of contemplation on a text\, a piece of art – writing\, images\, poetry or music. \nDates/Times\nIN-PERSON – Tuesdays\, 10:00-11:30 am \n\nDec. 2\nDec. 9\nDec. 16\n\nVIRTUAL – Wednesdays\, 6:30-8:00 pm \n\nDec. 3\nDec. 10\nDec. 17\n\nProgram Leader – Pam Shellberg\n \nPam Shellberg is the director of spiritual nourishment at Holy Wisdom\, a teacher\, a scripture scholar and a contemplative. She is eager to explore sacred texts in community with others\, through historical and contemplative lenses\, so that mystery\, wisdom\, courage and hope might be gifts received. \n  \nCost\n$35 per person or per screen for the series \nIf you are attending the in-person series\, consider staying after for a delicious lunch prepared by our chef. \nPlease contact retreats@holywisdommonastery.org\, 48 hours before the date(s) you wish to purchase lunch. The cost of one lunch is $18/person. \nRegister\nPlease register by Dec. 1\, 2025 for the in-person or virtual Advent series. If you need to cancel your registration\, there are no refunds\, but you are welcome to share your registration with someone who could come in your place.
URL:https://holywisdommonastery.org/event/advent-series-2025-virtual/
LOCATION:Holy Wisdom Monastery\, 4200 County Road M\, Middleton\, WI\, 53562\, United States
CATEGORIES:Center for Clergy Renewal,Community of Communities,Oblates,Prayer and Worship,Spirituality Programs,Sunday Assembly
ATTACH;FMTTYPE=image/jpeg:https://holywisdommonastery.org/wp-content/uploads/2025/10/2025-Advent-Series-Ask-for-a-Sign-of-Your-God-1600px.jpg
GEO:43.1211199;-89.4520998
X-APPLE-STRUCTURED-LOCATION;VALUE=URI;X-ADDRESS=Holy Wisdom Monastery 4200 County Road M Middleton WI 53562 United States;X-APPLE-RADIUS=500;X-TITLE=4200 County Road M:geo:-89.4520998,43.1211199
END:VEVENT
END:VCALENDAR