BEGIN:VCALENDAR
VERSION:2.0
PRODID:-//Holy Wisdom Monastery - ECPv6.15.20//NONSGML v1.0//EN
CALSCALE:GREGORIAN
METHOD:PUBLISH
X-WR-CALNAME:Holy Wisdom Monastery
X-ORIGINAL-URL:https://holywisdommonastery.org
X-WR-CALDESC:Events for Holy Wisdom Monastery
REFRESH-INTERVAL;VALUE=DURATION:PT1H
X-Robots-Tag:noindex
X-PUBLISHED-TTL:PT1H
BEGIN:VTIMEZONE
TZID:America/Chicago
BEGIN:DAYLIGHT
TZOFFSETFROM:-0600
TZOFFSETTO:-0500
TZNAME:CDT
DTSTART:20250309T080000
END:DAYLIGHT
BEGIN:STANDARD
TZOFFSETFROM:-0500
TZOFFSETTO:-0600
TZNAME:CST
DTSTART:20251102T070000
END:STANDARD
BEGIN:DAYLIGHT
TZOFFSETFROM:-0600
TZOFFSETTO:-0500
TZNAME:CDT
DTSTART:20260308T080000
END:DAYLIGHT
BEGIN:STANDARD
TZOFFSETFROM:-0500
TZOFFSETTO:-0600
TZNAME:CST
DTSTART:20261101T070000
END:STANDARD
BEGIN:DAYLIGHT
TZOFFSETFROM:-0600
TZOFFSETTO:-0500
TZNAME:CDT
DTSTART:20270314T080000
END:DAYLIGHT
BEGIN:STANDARD
TZOFFSETFROM:-0500
TZOFFSETTO:-0600
TZNAME:CST
DTSTART:20271107T070000
END:STANDARD
END:VTIMEZONE
BEGIN:VEVENT
DTSTART;TZID=America/Chicago:20260111T130000
DTEND;TZID=America/Chicago:20260111T150000
DTSTAMP:20260424T184718
CREATED:20251002T200559Z
LAST-MODIFIED:20260105T220716Z
UID:10005106-1768136400-1768143600@holywisdommonastery.org
SUMMARY:Resisting Christian Nationalism: What Is It and What Can I Do?
DESCRIPTION:Our ability to effectively resist Christian Nationalism depends on knowledge\, understanding\, and commitment to building meaningful alternatives. The Wisconsin Council of Churches has been involved in work at the intersection of faith and civil society for decades. We will begin our time together by beginning to better understand what Christian Nationalism is and how it functions among us. The presentation will discuss the relationship between religion and government and how deeply CN is embedded in our understandings. Participants will learn more about the roots of Christian Nationalism and how various movements are engaged in securing theocratic leadership in US society. There will be brief discussion of alignment between religious nationalist movements worldwide. In addition to responding to questions\, our speaker will discuss the long work of shifting culture and offer the audience an opportunity to engage in holy imagination regarding alternative futures. Everyone present will have a chance to develop specific pathways for action before they leave. \nSchedule\n\nTalk begins at 1:00 pm with a break and time at the end for questions.\nAt the break\, note cards will be passed out for collecting questions and collating into like topics.\n\nSpeaker – Rev. Dr. Kerri Parker\n \nRev. Dr. Kerri Parker (she/her) serves as Executive Director of the Wisconsin Council of Churches\, where she helps connect churches to address some of today’s most pressing societal concerns. She led the Council’s nationally-recognized response to the COVID pandemic\, and has co-authored several of the Council’s study-action guides. She is a frequent preacher and speaker on Christian Nationalism\, racial justice\, and faith-based advocacy. \nDr. Parker completed her Doctor of Ministry at Iliff School of Theology with a dissertation titled “Unsettled Intersections: Decentering Whiteness and Church Survival Questions.” She earned her Master of Divinity from Chicago Theological Seminary with a thesis on “Domestic Violence as an Experience of Exile” and was ordained by the Wisconsin Conference United Church of Christ. Her alma mater was Smith College\, where she earned a BA. \nIn 2023\, Dr. Parker was honored with the United Church of Christ’s Avery D. Post Ecumenical Award. She currently serves on the Board of the Christian Unity and Interfaith Ministry of the Christian Church Disciples of Christ. Her 20+ years of professional experience include serving as Executive Director of YWCA Rock County\, Chair of the Wisconsin Conference UCC Board of Directors\, on community task forces\, and as a local pastor. \nBeyond ministry\, Kerri is an avid reader\, loves show tunes\, and has too many stickers on her water bottles. She lives in South Central Wisconsin and tries to make pilgrimages to the ocean on a semi-regular basis. \nSponsors\nWe are grateful for the generous support of our sponsors so we can offer this program at no cost to the participants. \n\nInterfaith Peace Working Group\nMadison Friends Meeting Religious Society of Friends (Quakers)\nSouth Central Synod of Wisconsin & Messiah Lutheran Church\nVeterans for Peace – Clarence Kailin Chapter 25 (Madison\, WI)\nWisconsin Faith Voices for Justice\nWisconsin Poor People’s Campaign\n\n  \n \n  \n  \n  \n  \n \n \n  \n  \n  \n \n  \n  \n  \n  \n  \n  \n  \n  \n \n \n  \n  \n  \n  \n 
URL:https://holywisdommonastery.org/event/resisting-christian-nationalism/
LOCATION:Holy Wisdom Monastery\, 4200 County Road M\, Middleton\, WI\, 53562\, United States
CATEGORIES:Community of Communities,Justice,Prayer and Worship,Social Justice Committee,Spirituality Programs
ATTACH;FMTTYPE=image/jpeg:https://holywisdommonastery.org/wp-content/uploads/2025/10/Resisting-Christian-Nationalism-1600px.jpg
GEO:43.1211199;-89.4520998
X-APPLE-STRUCTURED-LOCATION;VALUE=URI;X-ADDRESS=Holy Wisdom Monastery 4200 County Road M Middleton WI 53562 United States;X-APPLE-RADIUS=500;X-TITLE=4200 County Road M:geo:-89.4520998,43.1211199
END:VEVENT
END:VCALENDAR