BEGIN:VCALENDAR
VERSION:2.0
PRODID:-//Holy Wisdom Monastery - ECPv6.15.20//NONSGML v1.0//EN
CALSCALE:GREGORIAN
METHOD:PUBLISH
X-ORIGINAL-URL:https://holywisdommonastery.org
X-WR-CALDESC:Events for Holy Wisdom Monastery
REFRESH-INTERVAL;VALUE=DURATION:PT1H
X-Robots-Tag:noindex
X-PUBLISHED-TTL:PT1H
BEGIN:VTIMEZONE
TZID:America/Chicago
BEGIN:DAYLIGHT
TZOFFSETFROM:-0600
TZOFFSETTO:-0500
TZNAME:CDT
DTSTART:20240310T080000
END:DAYLIGHT
BEGIN:STANDARD
TZOFFSETFROM:-0500
TZOFFSETTO:-0600
TZNAME:CST
DTSTART:20241103T070000
END:STANDARD
BEGIN:DAYLIGHT
TZOFFSETFROM:-0600
TZOFFSETTO:-0500
TZNAME:CDT
DTSTART:20250309T080000
END:DAYLIGHT
BEGIN:STANDARD
TZOFFSETFROM:-0500
TZOFFSETTO:-0600
TZNAME:CST
DTSTART:20251102T070000
END:STANDARD
BEGIN:DAYLIGHT
TZOFFSETFROM:-0600
TZOFFSETTO:-0500
TZNAME:CDT
DTSTART:20260308T080000
END:DAYLIGHT
BEGIN:STANDARD
TZOFFSETFROM:-0500
TZOFFSETTO:-0600
TZNAME:CST
DTSTART:20261101T070000
END:STANDARD
END:VTIMEZONE
BEGIN:VEVENT
DTSTART;TZID=America/Chicago:20251008T130000
DTEND;TZID=America/Chicago:20251008T143000
DTSTAMP:20260424T231450
CREATED:20250808T142426Z
LAST-MODIFIED:20250808T142505Z
UID:10005084-1759928400-1759933800@holywisdommonastery.org
SUMMARY:Conversations About Our Benedictine Life: Humility
DESCRIPTION:Deepen your understanding of Benedictine spirituality by joining us for one or more of the Conversations About Our Benedictine Spirituality: Humility sessions. These gatherings offer time for reflections\, for the reading of short pieces on humility from the Rule of Benedict and other authors\, an exploration of how Benedictine humility differs from our every day understandings of it\, and conversations about the gifts and challenges of living this Benedictine value in our lives. \nThese sessions are open to any adult who relates to any of the Holy Wisdom Monastery communities.
URL:https://holywisdommonastery.org/event/conversations-humility2-10-8-25/
LOCATION:Holy Wisdom Monastery\, 4200 County Road M\, Middleton\, WI\, 53562\, United States
CATEGORIES:Community of Communities,Spirituality Programs
ATTACH;FMTTYPE=image/jpeg:https://holywisdommonastery.org/wp-content/uploads/2025/05/Conversations-About-Our-Benedictine-Life-Humility-1600px.jpg
ORGANIZER;CN="Pam Shellberg":MAILTO:pshellberg@holywisdommonastery.org
GEO:43.1211199;-89.4520998
X-APPLE-STRUCTURED-LOCATION;VALUE=URI;X-ADDRESS=Holy Wisdom Monastery 4200 County Road M Middleton WI 53562 United States;X-APPLE-RADIUS=500;X-TITLE=4200 County Road M:geo:-89.4520998,43.1211199
END:VEVENT
BEGIN:VEVENT
DTSTART;TZID=America/Chicago:20251023T183000
DTEND;TZID=America/Chicago:20251023T200000
DTSTAMP:20260424T231450
CREATED:20250808T142535Z
LAST-MODIFIED:20250808T142626Z
UID:10005085-1761244200-1761249600@holywisdommonastery.org
SUMMARY:Conversations About Our Benedictine Life: Humility
DESCRIPTION:Deepen your understanding of Benedictine spirituality by joining us for one or more of the Conversations About Our Benedictine Spirituality: Humility sessions. These gatherings offer time for reflections\, for the reading of short pieces on humility from the Rule of Benedict and other authors\, an exploration of how Benedictine humility differs from our every day understandings of it\, and conversations about the gifts and challenges of living this Benedictine value in our lives. \nThese sessions are open to any adult who relates to any of the Holy Wisdom Monastery communities.
URL:https://holywisdommonastery.org/event/conversations-humility2-10-23-25/
LOCATION:Holy Wisdom Monastery\, 4200 County Road M\, Middleton\, WI\, 53562\, United States
CATEGORIES:Community of Communities,Spirituality Programs
ATTACH;FMTTYPE=image/jpeg:https://holywisdommonastery.org/wp-content/uploads/2025/05/Conversations-About-Our-Benedictine-Life-Humility-1600px.jpg
ORGANIZER;CN="Pam Shellberg":MAILTO:pshellberg@holywisdommonastery.org
GEO:43.1211199;-89.4520998
X-APPLE-STRUCTURED-LOCATION;VALUE=URI;X-ADDRESS=Holy Wisdom Monastery 4200 County Road M Middleton WI 53562 United States;X-APPLE-RADIUS=500;X-TITLE=4200 County Road M:geo:-89.4520998,43.1211199
END:VEVENT
END:VCALENDAR