BEGIN:VCALENDAR
VERSION:2.0
PRODID:-//Holy Wisdom Monastery - ECPv6.15.20//NONSGML v1.0//EN
CALSCALE:GREGORIAN
METHOD:PUBLISH
X-ORIGINAL-URL:https://holywisdommonastery.org
X-WR-CALDESC:Events for Holy Wisdom Monastery
REFRESH-INTERVAL;VALUE=DURATION:PT1H
X-Robots-Tag:noindex
X-PUBLISHED-TTL:PT1H
BEGIN:VTIMEZONE
TZID:America/Chicago
BEGIN:DAYLIGHT
TZOFFSETFROM:-0600
TZOFFSETTO:-0500
TZNAME:CDT
DTSTART:20250309T080000
END:DAYLIGHT
BEGIN:STANDARD
TZOFFSETFROM:-0500
TZOFFSETTO:-0600
TZNAME:CST
DTSTART:20251102T070000
END:STANDARD
BEGIN:DAYLIGHT
TZOFFSETFROM:-0600
TZOFFSETTO:-0500
TZNAME:CDT
DTSTART:20260308T080000
END:DAYLIGHT
BEGIN:STANDARD
TZOFFSETFROM:-0500
TZOFFSETTO:-0600
TZNAME:CST
DTSTART:20261101T070000
END:STANDARD
BEGIN:DAYLIGHT
TZOFFSETFROM:-0600
TZOFFSETTO:-0500
TZNAME:CDT
DTSTART:20270314T080000
END:DAYLIGHT
BEGIN:STANDARD
TZOFFSETFROM:-0500
TZOFFSETTO:-0600
TZNAME:CST
DTSTART:20271107T070000
END:STANDARD
END:VTIMEZONE
BEGIN:VEVENT
DTSTART;TZID=America/Chicago:20260308T103000
DTEND;TZID=America/Chicago:20260308T113000
DTSTAMP:20260424T220905
CREATED:20260130T203621Z
LAST-MODIFIED:20260130T203740Z
UID:10005231-1772965800-1772969400@holywisdommonastery.org
SUMMARY:Conversations About Our Benedictine Life: Balance
DESCRIPTION:Deepen your understanding of Benedictine spirituality by joining us for one or more Conversations About Our Benedictine Life: Balance. These gatherings offer time for reflection\, for the contemplation of short readings about balance and moderation from the Rule of Benedict and other wise authors\, and the goodness of being part of the shared way of Benedictine life. The rhythm of Benedictine monastic life – work\, study\, prayer\, rest – is a rhythm of balance that can bring depth and peace to our days. Come listen to Benedict and each other with the ears of your heart; explore the challenges and the gifts of living a life of balance and moderation. \n\nThese sessions are open to any adult who relates to any of the Holy Wisdom Monastery communities.
URL:https://holywisdommonastery.org/event/conversations-balance-3-8-26/
LOCATION:Holy Wisdom Monastery\, 4200 County Road M\, Middleton\, WI\, 53562\, United States
CATEGORIES:Community of Communities,Oblates,Sunday Assembly
ATTACH;FMTTYPE=image/jpeg:https://holywisdommonastery.org/wp-content/uploads/2026/01/Conversations-About-Our-Benedictine-Life-1600px.jpg
ORGANIZER;CN="Pam Shellberg":MAILTO:pshellberg@holywisdommonastery.org
GEO:43.1211199;-89.4520998
X-APPLE-STRUCTURED-LOCATION;VALUE=URI;X-ADDRESS=Holy Wisdom Monastery 4200 County Road M Middleton WI 53562 United States;X-APPLE-RADIUS=500;X-TITLE=4200 County Road M:geo:-89.4520998,43.1211199
END:VEVENT
END:VCALENDAR