BEGIN:VCALENDAR
VERSION:2.0
PRODID:-//Holy Wisdom Monastery - ECPv6.15.20//NONSGML v1.0//EN
CALSCALE:GREGORIAN
METHOD:PUBLISH
X-ORIGINAL-URL:https://holywisdommonastery.org
X-WR-CALDESC:Events for Holy Wisdom Monastery
REFRESH-INTERVAL;VALUE=DURATION:PT1H
X-Robots-Tag:noindex
X-PUBLISHED-TTL:PT1H
BEGIN:VTIMEZONE
TZID:America/Chicago
BEGIN:DAYLIGHT
TZOFFSETFROM:-0600
TZOFFSETTO:-0500
TZNAME:CDT
DTSTART:20250309T080000
END:DAYLIGHT
BEGIN:STANDARD
TZOFFSETFROM:-0500
TZOFFSETTO:-0600
TZNAME:CST
DTSTART:20251102T070000
END:STANDARD
BEGIN:DAYLIGHT
TZOFFSETFROM:-0600
TZOFFSETTO:-0500
TZNAME:CDT
DTSTART:20260308T080000
END:DAYLIGHT
BEGIN:STANDARD
TZOFFSETFROM:-0500
TZOFFSETTO:-0600
TZNAME:CST
DTSTART:20261101T070000
END:STANDARD
BEGIN:DAYLIGHT
TZOFFSETFROM:-0600
TZOFFSETTO:-0500
TZNAME:CDT
DTSTART:20270314T080000
END:DAYLIGHT
BEGIN:STANDARD
TZOFFSETFROM:-0500
TZOFFSETTO:-0600
TZNAME:CST
DTSTART:20271107T070000
END:STANDARD
END:VTIMEZONE
BEGIN:VEVENT
DTSTART;TZID=America/Chicago:20260218T190000
DTEND;TZID=America/Chicago:20260218T200000
DTSTAMP:20260424T220815
CREATED:20260220T153416Z
LAST-MODIFIED:20260220T161058Z
UID:10005380-1771441200-1771444800@holywisdommonastery.org
SUMMARY:Centering Prayer Groups - 3rd Wednesday
DESCRIPTION:Centering Prayer Groups \nAll are welcome to join our two centering prayer groups which meet on alternating Wednesdays. Both incorporate a short reading and time for silent prayer or meditation. \n\n1st and 3rd Wednesdays\n\n7:00-8:00 pm\nRetreat & Guest House Room 10\nIncludes a short walking meditation in between periods of seated meditation\nFor more information contact Barb Abbott\, 608-284-7424\n\n\n2nd and 4th Wednesdays \n\n2:30-3:30 pm\nMonastery Oratory –\nTwo\, 20-minute periods of seated meditation with a 5-minute break\nFor more information contact Carole Kretschman\, 608-577-3243\n\n\n\nWe feel the presence of the Holy One even more strongly than when we center by ourselves. … Our prayer has less outward distractions for that hour than if we center at home. … Having the group supports us in our prayer life.
URL:https://holywisdommonastery.org/event/centering-prayer-groups-3rd-wednesday/2026-02-18/
LOCATION:Holy Wisdom Monastery\, 4200 County Road M\, Middleton\, WI\, 53562\, United States
CATEGORIES:Centering Prayer Groups,Community of Communities,Oblates,Prayer and Worship,Sunday Assembly
ATTACH;FMTTYPE=image/jpeg:https://holywisdommonastery.org/wp-content/uploads/2022/12/centering-prayer-groups.jpg
GEO:43.1211199;-89.4520998
X-APPLE-STRUCTURED-LOCATION;VALUE=URI;X-ADDRESS=Holy Wisdom Monastery 4200 County Road M Middleton WI 53562 United States;X-APPLE-RADIUS=500;X-TITLE=4200 County Road M:geo:-89.4520998,43.1211199
END:VEVENT
BEGIN:VEVENT
DTSTART;TZID=America/Chicago:20260222T103000
DTEND;TZID=America/Chicago:20260222T113000
DTSTAMP:20260424T220815
CREATED:20260130T202048Z
LAST-MODIFIED:20260130T203235Z
UID:10005229-1771756200-1771759800@holywisdommonastery.org
SUMMARY:Conversations About Our Benedictine Life: Balance
DESCRIPTION:Deepen your understanding of Benedictine spirituality by joining us for one or more Conversations About Our Benedictine Life: Balance. These gatherings offer time for reflection\, for the contemplation of short readings about balance and moderation from the Rule of Benedict and other wise authors\, and the goodness of being part of the shared way of Benedictine life. The rhythm of Benedictine monastic life – work\, study\, prayer\, rest – is a rhythm of balance that can bring depth and peace to our days. Come listen to Benedict and each other with the ears of your heart; explore the challenges and the gifts of living a life of balance and moderation. \n\nThese sessions are open to any adult who relates to any of the Holy Wisdom Monastery communities.
URL:https://holywisdommonastery.org/event/conversations-balance-2-22-26/
LOCATION:Holy Wisdom Monastery\, 4200 County Road M\, Middleton\, WI\, 53562\, United States
CATEGORIES:Community of Communities,Oblates,Sunday Assembly
ATTACH;FMTTYPE=image/jpeg:https://holywisdommonastery.org/wp-content/uploads/2026/01/Conversations-About-Our-Benedictine-Life-1600px.jpg
ORGANIZER;CN="Pam Shellberg":MAILTO:pshellberg@holywisdommonastery.org
GEO:43.1211199;-89.4520998
X-APPLE-STRUCTURED-LOCATION;VALUE=URI;X-ADDRESS=Holy Wisdom Monastery 4200 County Road M Middleton WI 53562 United States;X-APPLE-RADIUS=500;X-TITLE=4200 County Road M:geo:-89.4520998,43.1211199
END:VEVENT
BEGIN:VEVENT
DTSTART;TZID=America/Chicago:20260305T183000
DTEND;TZID=America/Chicago:20260305T200000
DTSTAMP:20260424T220815
CREATED:20260130T202451Z
LAST-MODIFIED:20260130T203510Z
UID:10005230-1772735400-1772740800@holywisdommonastery.org
SUMMARY:Conversations About Our Benedictine Life: Balance
DESCRIPTION:Deepen your understanding of Benedictine spirituality by joining us for one or more Conversations About Our Benedictine Life: Balance. These gatherings offer time for reflection\, for the contemplation of short readings about balance and moderation from the Rule of Benedict and other wise authors\, and the goodness of being part of the shared way of Benedictine life. The rhythm of Benedictine monastic life – work\, study\, prayer\, rest – is a rhythm of balance that can bring depth and peace to our days. Come listen to Benedict and each other with the ears of your heart; explore the challenges and the gifts of living a life of balance and moderation. \n\nThese sessions are open to any adult who relates to any of the Holy Wisdom Monastery communities.
URL:https://holywisdommonastery.org/event/conversations-balance-3-5-26/
LOCATION:Holy Wisdom Monastery\, 4200 County Road M\, Middleton\, WI\, 53562\, United States
CATEGORIES:Community of Communities,Oblates,Sunday Assembly
ATTACH;FMTTYPE=image/jpeg:https://holywisdommonastery.org/wp-content/uploads/2026/01/Conversations-About-Our-Benedictine-Life-1600px.jpg
ORGANIZER;CN="Pam Shellberg":MAILTO:pshellberg@holywisdommonastery.org
GEO:43.1211199;-89.4520998
X-APPLE-STRUCTURED-LOCATION;VALUE=URI;X-ADDRESS=Holy Wisdom Monastery 4200 County Road M Middleton WI 53562 United States;X-APPLE-RADIUS=500;X-TITLE=4200 County Road M:geo:-89.4520998,43.1211199
END:VEVENT
BEGIN:VEVENT
DTSTART;TZID=America/Chicago:20260308T103000
DTEND;TZID=America/Chicago:20260308T113000
DTSTAMP:20260424T220815
CREATED:20260130T203621Z
LAST-MODIFIED:20260130T203740Z
UID:10005231-1772965800-1772969400@holywisdommonastery.org
SUMMARY:Conversations About Our Benedictine Life: Balance
DESCRIPTION:Deepen your understanding of Benedictine spirituality by joining us for one or more Conversations About Our Benedictine Life: Balance. These gatherings offer time for reflection\, for the contemplation of short readings about balance and moderation from the Rule of Benedict and other wise authors\, and the goodness of being part of the shared way of Benedictine life. The rhythm of Benedictine monastic life – work\, study\, prayer\, rest – is a rhythm of balance that can bring depth and peace to our days. Come listen to Benedict and each other with the ears of your heart; explore the challenges and the gifts of living a life of balance and moderation. \n\nThese sessions are open to any adult who relates to any of the Holy Wisdom Monastery communities.
URL:https://holywisdommonastery.org/event/conversations-balance-3-8-26/
LOCATION:Holy Wisdom Monastery\, 4200 County Road M\, Middleton\, WI\, 53562\, United States
CATEGORIES:Community of Communities,Oblates,Sunday Assembly
ATTACH;FMTTYPE=image/jpeg:https://holywisdommonastery.org/wp-content/uploads/2026/01/Conversations-About-Our-Benedictine-Life-1600px.jpg
ORGANIZER;CN="Pam Shellberg":MAILTO:pshellberg@holywisdommonastery.org
GEO:43.1211199;-89.4520998
X-APPLE-STRUCTURED-LOCATION;VALUE=URI;X-ADDRESS=Holy Wisdom Monastery 4200 County Road M Middleton WI 53562 United States;X-APPLE-RADIUS=500;X-TITLE=4200 County Road M:geo:-89.4520998,43.1211199
END:VEVENT
BEGIN:VEVENT
DTSTART;TZID=America/Chicago:20260409T120000
DTEND;TZID=America/Chicago:20260409T133000
DTSTAMP:20260424T220815
CREATED:20260203T195930Z
LAST-MODIFIED:20260408T150204Z
UID:10005233-1775736000-1775741400@holywisdommonastery.org
SUMMARY:Volunteer Appreciation Lunch
DESCRIPTION:Have you volunteered with Holy Wisdom Monastery? We want to thank you! Please join us for our Volunteer Appreciation Lunch at Holy Wisdom Monastery on April 9\, 2026. This is the sisters’ and coworkers’ way of expressing our gratitude for all the time and effort you have generously given to our communities. We hope you can join us for a delicious meal and some well-deserved recognition for your hard work. This lunch is open to all monastery volunteers\, including those who support our communities (Oblates\, Friends of Wisdom Prairie\, Sunday Assembly\, Center for Clergy Renewal) and those who support our general operations (kitchen\, front desk\, committees\, board\, etc.). \nReservations will be accepted until April 2nd. \nSchedule\n11:45 am – Midday prayer (optional) \n12:00 pm – Lunch is served \n12:30 pm – Comments/thanks \nCost\nMonastery volunteers are invited to a free lunch. \nRegister\nPlease register below for this event by April 2\, 2026\, so we know how much food to prepare.
URL:https://holywisdommonastery.org/event/volunteer-appreciation-lunch-26/
LOCATION:Holy Wisdom Monastery\, 4200 County Road M\, Middleton\, WI\, 53562\, United States
CATEGORIES:Center for Clergy Renewal,Community of Communities,Friends of Wisdom Prairie,Oblates,Sunday Assembly,Volunteers
ATTACH;FMTTYPE=image/jpeg:https://holywisdommonastery.org/wp-content/uploads/2026/02/2026-Volunteer-Appreciation-1600px.jpg
GEO:43.1211199;-89.4520998
X-APPLE-STRUCTURED-LOCATION;VALUE=URI;X-ADDRESS=Holy Wisdom Monastery 4200 County Road M Middleton WI 53562 United States;X-APPLE-RADIUS=500;X-TITLE=4200 County Road M:geo:-89.4520998,43.1211199
END:VEVENT
END:VCALENDAR