BEGIN:VCALENDAR
VERSION:2.0
PRODID:-//Holy Wisdom Monastery - ECPv6.15.20//NONSGML v1.0//EN
CALSCALE:GREGORIAN
METHOD:PUBLISH
X-WR-CALNAME:Holy Wisdom Monastery
X-ORIGINAL-URL:https://holywisdommonastery.org
X-WR-CALDESC:Events for Holy Wisdom Monastery
REFRESH-INTERVAL;VALUE=DURATION:PT1H
X-Robots-Tag:noindex
X-PUBLISHED-TTL:PT1H
BEGIN:VTIMEZONE
TZID:America/Chicago
BEGIN:DAYLIGHT
TZOFFSETFROM:-0600
TZOFFSETTO:-0500
TZNAME:CDT
DTSTART:20250309T080000
END:DAYLIGHT
BEGIN:STANDARD
TZOFFSETFROM:-0500
TZOFFSETTO:-0600
TZNAME:CST
DTSTART:20251102T070000
END:STANDARD
BEGIN:DAYLIGHT
TZOFFSETFROM:-0600
TZOFFSETTO:-0500
TZNAME:CDT
DTSTART:20260308T080000
END:DAYLIGHT
BEGIN:STANDARD
TZOFFSETFROM:-0500
TZOFFSETTO:-0600
TZNAME:CST
DTSTART:20261101T070000
END:STANDARD
BEGIN:DAYLIGHT
TZOFFSETFROM:-0600
TZOFFSETTO:-0500
TZNAME:CDT
DTSTART:20270314T080000
END:DAYLIGHT
BEGIN:STANDARD
TZOFFSETFROM:-0500
TZOFFSETTO:-0600
TZNAME:CST
DTSTART:20271107T070000
END:STANDARD
END:VTIMEZONE
BEGIN:VEVENT
DTSTART;TZID=America/Chicago:20260711T093000
DTEND;TZID=America/Chicago:20260712T113000
DTSTAMP:20260424T230126
CREATED:20260205T162948Z
LAST-MODIFIED:20260421T205237Z
UID:10005235-1783762200-1783855800@holywisdommonastery.org
SUMMARY:Sacred Queerness: Earth-Based Spiritual Retreat
DESCRIPTION:Queer and Trans people are a sacred part of the Earth\, always have been\, and always will be. We invite LGBTQ+ people of all ages to join four local queer spiritual leaders and land stewards for a two-day\, one-night healing retreat at Holy Wisdom Monastery. The retreat will hold time for writing and art\, work with the restored prairie and savanna ecosystems that surround the monastery and an exploration of what we hold as sacred. \nRecognizing the religious trauma many of us carry\, we are defining the “sacred” in this retreat broadly as “that which is bigger than us” – our place in the world\, community and how we find profound meaning. Sacred Queerness is open to people of any religious/spiritual path or none and participants will be asked to protect and honor this diversity. In an unsafe and turbulent time\, we will strengthen community bonds\, connect with the local more-than-human world and affirm our place on Earth. \nPlease bring a journal and something to write with. \nThis retreat is for anyone who identifies as a part of the LGBTQIA+ community. LGBTQIA+ people under 18 should attend with a trusted adult\, who may be an ally. \nEvent Schedule\nSaturday\, July 11 \n9:30-10:00 am – Arrive and Mingle \n10:00-10:50 am – Receiving Queer Wisdom – Poetry and Readings \n11:00-11:50 am – Expressing Queer Wisdom – Journaling/Drawing \nNoon-1:00 pm – Lunch in the Monastery \n1:00-2:00 pm – Healed Land Heals Us – Walking Tour of the Prairie \n2:00-3:30 pm – Caring for the Land – Restoration Work Project \n3:30-5:00 pm – Free Time \n5:15-6:15 pm – Dinner \n6:30-7:30 pm – Nature Art \n8:00 pm – Bonfire – Ritual Release and Joy Under the Stars \nSunday\, July 12 \n8:00-9:00 am – Breakfast \n9:00-10:00 am – Welcoming the Sacred – Outdoor Meditation or Ecumenical Worship \n10:30-11:30 am – Closing and Group Photo \n  \nSpeakers – Becca Bedell\, Pam Shellberg\, Rev. Manato Jansen and Rachel Young Binter\n\n  \n  \n  \n  \n  \nBecca Bedell (they/she) is a writer and a volunteer land steward with Friends of Wisdom Prairie and Dane County Parks. They serve as Basic Needs Advocate at OutReach LGBTQ+ Community Center\, coordinating housing and food assistance. \n \n  \n  \n  \n  \n  \nPam Shellberg (she/her) is the Director of Spiritual Nourishment at Holy Wisdom Monastery\, offering retreats and studies of spiritual traditions and practices. She is a homilist at the monastery and a spiritual director. \n \n  \n  \n  \n  \n  \nRev. Manato Jansen (he/him) is a presider and homilist at Holy Wisdom Monastery. He serves as Director of Residential Community at Pres House (UW-Madison)\, facilitating LGBTQ+ spiritual communities and scholarship programs for students. \n \n  \n  \n  \n  \n  \nRachel Young Binter (she/her) is the Director of the Center for Clergy Renewal at Holy Wisdom Monastery and a former campus pastor. She is an experienced retreat leader\, certified therapeutic yoga instructor and Reiki practitioner who finds joy and healing in embodied care\, the earth and acts of justice. \n  \nCost\n$200/retreatant. Cost includes lunch and dinner on Saturday as well as breakfast on Sunday. We understand the importance of this retreat and we do not want expense to keep anyone from attending. Scholarships are available to help cover registration fees\, if needed. \nParents/Guardians must accompany minors on this retreat\, but will only be responsible for the meal portion of the registration fee ($57). \nRegister\nPlease register by July 4\, 2026. The maximum number of participants is 19 and registration will close when full. Once registration fills\, we will have a waiting list in case a space becomes available. \nCancellation policy – if you register but must cancel your registration\, you can receive a 75% refund up until July 4\, 2026. After that\, a 50% refund is available until the retreat starts. \nAfter you register\, if you would like to request a double room with another retreatant for a lower registration cost or if you have other questions about accommodations\, please contact us at retreats@holywisdommonastery.org. \n \n  \n 
URL:https://holywisdommonastery.org/event/sacred-queerness-26/
LOCATION:Holy Wisdom Monastery\, 4200 County Road M\, Middleton\, WI\, 53562\, United States
CATEGORIES:Care for the Earth,Holy Wisdom Monastery,Hospitality,Justice,Retreats,Wellness,Writing
ATTACH;FMTTYPE=image/jpeg:https://holywisdommonastery.org/wp-content/uploads/2026/02/Sacred-Queerness-1600px.jpg
GEO:43.1211199;-89.4520998
X-APPLE-STRUCTURED-LOCATION;VALUE=URI;X-ADDRESS=Holy Wisdom Monastery 4200 County Road M Middleton WI 53562 United States;X-APPLE-RADIUS=500;X-TITLE=4200 County Road M:geo:-89.4520998,43.1211199
END:VEVENT
END:VCALENDAR