BEGIN:VCALENDAR
VERSION:2.0
PRODID:-//Holy Wisdom Monastery - ECPv6.15.20//NONSGML v1.0//EN
CALSCALE:GREGORIAN
METHOD:PUBLISH
X-ORIGINAL-URL:https://holywisdommonastery.org
X-WR-CALDESC:Events for Holy Wisdom Monastery
REFRESH-INTERVAL;VALUE=DURATION:PT1H
X-Robots-Tag:noindex
X-PUBLISHED-TTL:PT1H
BEGIN:VTIMEZONE
TZID:America/Chicago
BEGIN:DAYLIGHT
TZOFFSETFROM:-0600
TZOFFSETTO:-0500
TZNAME:CDT
DTSTART:20250309T080000
END:DAYLIGHT
BEGIN:STANDARD
TZOFFSETFROM:-0500
TZOFFSETTO:-0600
TZNAME:CST
DTSTART:20251102T070000
END:STANDARD
BEGIN:DAYLIGHT
TZOFFSETFROM:-0600
TZOFFSETTO:-0500
TZNAME:CDT
DTSTART:20260308T080000
END:DAYLIGHT
BEGIN:STANDARD
TZOFFSETFROM:-0500
TZOFFSETTO:-0600
TZNAME:CST
DTSTART:20261101T070000
END:STANDARD
BEGIN:DAYLIGHT
TZOFFSETFROM:-0600
TZOFFSETTO:-0500
TZNAME:CDT
DTSTART:20270314T080000
END:DAYLIGHT
BEGIN:STANDARD
TZOFFSETFROM:-0500
TZOFFSETTO:-0600
TZNAME:CST
DTSTART:20271107T070000
END:STANDARD
END:VTIMEZONE
BEGIN:VEVENT
DTSTART;TZID=America/Chicago:20260621T130000
DTEND;TZID=America/Chicago:20260621T144500
DTSTAMP:20260424T220638
CREATED:20260107T175159Z
LAST-MODIFIED:20260403T191029Z
UID:10005151-1782046800-1782053100@holywisdommonastery.org
SUMMARY:I Choose Peace: Sound Healing & Guided Meditation
DESCRIPTION:You are welcome to explore a transformative journey through stillness with I Choose Peace: Sound Healing & Guided Meditation. This uniquely enchanting heart-centered experience invites you to explore the depths of world peace and love through the calming resonance of sound bowl healing\, serene guided meditations\, and space for reflective journaling. It’s more than just meditation; it’s a pathway to self-love and a deeper connection with your inner infinite peace and Mother Earth. \nWhether you’re a seasoned meditator or completely new to the practice\, this offering provides a safe and accessible pathway to exploring mindfulness and meditation while experiencing sound bowls and frequencies in alignment with love\, peace and global healing. We welcome all peace seekers ages 18 and above who desire to be in community with like-minded souls dedicated to making the world a better place. \nDuring our time we will:\n\nPractice stillness and self awareness through mindfulness play.\nReconnect with Mother Earth and our ancestors through peace and love.\nAllow our bodies and minds to rest and reorient to our own personal spaces of peace and love through experiencing crystal sound bowl healing and layers of healing frequencies.\nIlluminate the infinite peace and love in each of us individually that connects us collectively though spiritually guided meditations.\nPractice self reflection and allow space to explore and journal what surfaces as you choose peace.\n\nPlease bring the following items to make the most of your meditation:\n\nComfortable clothing: breathable\, flexible garments for various temperatures. Light layers are suggested.\nBlanket\, pillow\, yoga mat: create a comfortable space to rest by having your own items to support your body needs.\nJournal: any journal or notebook (and writing utensil) will do to capture your reflections.\nWater bottle/personal beverage: hydrate!\nPersonal care items: natural toiletries\, sunscreen and insect repellent (if meditation will be outside)\nYou may choose your position of comfort during the meditation. Chairs are available for use if needed. Please bring any additional personal items you may require to comfortably sit or lay down for two hours.\nOpen mind and heart ready and willing to explore within how we can choose love and peace in our own lives.\n\nSchedule\n\n1:00-1:30 pm – Welcome and call in to reconnect with self and ancestors\n1:30-2:30 pm – Sound bowl lifted guided meditation\n2:30-2:45 pm – Self-reflection\, reenergize and peace out\n\nInstructor – Takeyla Benton\n \nMystic on a mission\, Takeyla\, Mystic Key\, has spent her lifetime unlocking her own divine potential – and now she’s here to help you do the same. With a wealth of spiritually directed studies and personal experiences\, Mystic Key infuses her wisdom and passion for storytelling\, holistic healing and spirit-centered self-mastery and divine love into her all areas of her sacred soul work. As a trusted guide\, she offers Goddess and Ancestor guided spiritual consultations\, reiki energy and sound healing sessions\, empowering yoga and meditation coaching\, illuminating podcasts and workshops and wherever spirt guides her to grow. Mystic Key empowers those who feel lost and locked into unproductive cycles to seek the keys to get out by going within. \n  \nDates/Times\nYou are welcome to come to one session or more. Each session has its own registration form which will open about three months before the session. \nSummer Solstice | Sunday\, Jun. 21\, 2026 | 1:00 – 2:45 pm (no lunch)\nAutumn Equinox | Saturday\, Sep. 19\, 2026 | 10:00 – 11:45 am\nWinter Solstice | Saturday\, Dec. 19\, 2026 | 10:00 – 11:45 am \nCost\n$37/person/session \nRegister \nThe registration deadline for the June 21st session is June 13th\, or when the registration reaches 35 people. There is no refund for cancellations\, but registrations are transferable. Registration for later sessions will open closer to the event date. \n \n  \n  \n  \n 
URL:https://holywisdommonastery.org/event/i-choose-peace-26/
LOCATION:Holy Wisdom Monastery\, 4200 County Road M\, Middleton\, WI\, 53562\, United States
CATEGORIES:Community of Communities,Wellness
ATTACH;FMTTYPE=image/jpeg:https://holywisdommonastery.org/wp-content/uploads/2025/01/I-Choose-Peace-1600px.jpg
GEO:43.1211199;-89.4520998
X-APPLE-STRUCTURED-LOCATION;VALUE=URI;X-ADDRESS=Holy Wisdom Monastery 4200 County Road M Middleton WI 53562 United States;X-APPLE-RADIUS=500;X-TITLE=4200 County Road M:geo:-89.4520998,43.1211199
END:VEVENT
END:VCALENDAR