BEGIN:VCALENDAR
VERSION:2.0
PRODID:-//Holy Wisdom Monastery - ECPv6.15.20//NONSGML v1.0//EN
CALSCALE:GREGORIAN
METHOD:PUBLISH
X-ORIGINAL-URL:https://holywisdommonastery.org
X-WR-CALDESC:Events for Holy Wisdom Monastery
REFRESH-INTERVAL;VALUE=DURATION:PT1H
X-Robots-Tag:noindex
X-PUBLISHED-TTL:PT1H
BEGIN:VTIMEZONE
TZID:America/Chicago
BEGIN:DAYLIGHT
TZOFFSETFROM:-0600
TZOFFSETTO:-0500
TZNAME:CDT
DTSTART:20250309T080000
END:DAYLIGHT
BEGIN:STANDARD
TZOFFSETFROM:-0500
TZOFFSETTO:-0600
TZNAME:CST
DTSTART:20251102T070000
END:STANDARD
BEGIN:DAYLIGHT
TZOFFSETFROM:-0600
TZOFFSETTO:-0500
TZNAME:CDT
DTSTART:20260308T080000
END:DAYLIGHT
BEGIN:STANDARD
TZOFFSETFROM:-0500
TZOFFSETTO:-0600
TZNAME:CST
DTSTART:20261101T070000
END:STANDARD
BEGIN:DAYLIGHT
TZOFFSETFROM:-0600
TZOFFSETTO:-0500
TZNAME:CDT
DTSTART:20270314T080000
END:DAYLIGHT
BEGIN:STANDARD
TZOFFSETFROM:-0500
TZOFFSETTO:-0600
TZNAME:CST
DTSTART:20271107T070000
END:STANDARD
END:VTIMEZONE
BEGIN:VEVENT
DTSTART;TZID=America/Chicago:20260607T101500
DTEND;TZID=America/Chicago:20260607T121500
DTSTAMP:20260424T220549
CREATED:20260310T175101Z
LAST-MODIFIED:20260403T172304Z
UID:10005407-1780827300-1780834500@holywisdommonastery.org
SUMMARY:Ink & Insight Mindful Writing Circle
DESCRIPTION:Join us for a quarterly gathering that blends creative writing and mindfulness in a supportive\, inclusive space. Whether you identify as a writer or simply enjoy exploring your inner voice\, this group offers you a gentle rhythm of reflective writing (with optional prompts)\, sharing in community\, and contemplative practices like guided meditation and mindful walking outdoors\, weather permitting. \nCome as you are. No experience needed — just a willingness to pause\, listen\, and write. You’ll leave with new words\, insights\, and connections. \nDates/Times – Sundays from 10:15 am-12:15 pm \n\nJan. 25\nMar. 1\nJun. 7\nNov. 1\n\nSchedule \n\n10:15 am – Welcome\, housekeeping\, and settling in\n10:30 am – Guided meditation\n10:45 am – Writing session #1 with optional small-group sharing\n11:00 am – Contemplative walking and writing session #2\n11:30 am – Writing session #3\n11:45 am – Sharing in big group (optional)\n12:15 pm – Close\n\nLeader – Rebecca Jamieson \n \n  \nRebecca Jamieson is the author of The Body of All Things (Finishing Line Press\, 2017). She is the recipient of a 2025 Wisconsin Writers Award\, the 2024 Tupelo Press Prose Prize\, and is a Pushcart Prize nominee. Her writing has appeared in numerous publications\, including Rattle\, The Offing\, Mid-American Review\, and Entropy\, and she’s currently at work on a collection of personal essays. Rebecca lives on Ho-Chunk land in Madison\, Wisconsin. When she’s not writing\, you can find her hiking\, baking\, or cuddling her two cats. \n  \n  \n  \n  \nCost \n$50/person \nRegistration \nLimited to 25 people. Please register by June 4\, 2026.
URL:https://holywisdommonastery.org/event/ink-and-insight-jun-7-26/
LOCATION:Holy Wisdom Monastery\, 4200 County Road M\, Middleton\, WI\, 53562\, United States
CATEGORIES:Educational Experience,Holy Wisdom Monastery,Wellness,Writing
ATTACH;FMTTYPE=image/jpeg:https://holywisdommonastery.org/wp-content/uploads/2025/11/Ink-and-Insight-1600px.jpg
GEO:43.1211199;-89.4520998
X-APPLE-STRUCTURED-LOCATION;VALUE=URI;X-ADDRESS=Holy Wisdom Monastery 4200 County Road M Middleton WI 53562 United States;X-APPLE-RADIUS=500;X-TITLE=4200 County Road M:geo:-89.4520998,43.1211199
END:VEVENT
END:VCALENDAR